BEGIN:VCALENDAR
VERSION:2.0
PRODID:-//USC Leonard Davis School of Gerontology - ECPv4.6.19//NONSGML v1.0//EN
CALSCALE:GREGORIAN
METHOD:PUBLISH
X-WR-CALNAME:USC Leonard Davis School of Gerontology
X-ORIGINAL-URL:http://gero.usc.edu
X-WR-CALDESC:Events for USC Leonard Davis School of Gerontology
BEGIN:VEVENT
DTSTART;TZID=America/Los_Angeles:20180807T080000
DTEND;TZID=America/Los_Angeles:20180807T170000
DTSTAMP:20180626T082323
CREATED:20180515T014856Z
LAST-MODIFIED:20180515T015053Z
UID:16623-1533628800-1533661200@gero.usc.edu
SUMMARY:Summer Session 2018: Classes End
DESCRIPTION:See the academic calendar for more information. \n
URL:http://gero.usc.edu/event/summer-session-2018-classes-end/
LOCATION:3715 McClintock Avenue\, Los Angeles\, CA\, 90089\, United States
END:VEVENT
BEGIN:VEVENT
DTSTART;TZID=America/Los_Angeles:20180820T080000
DTEND;TZID=America/Los_Angeles:20180820T170000
DTSTAMP:20180626T082323
CREATED:20180516T183533Z
LAST-MODIFIED:20180516T183533Z
UID:16625-1534752000-1534784400@gero.usc.edu
SUMMARY:Fall Semester 2018: Classes Begin
DESCRIPTION:See the academic calendar for more information. \n
URL:http://gero.usc.edu/event/fall-semester-2018-classes-begin/
LOCATION:3715 McClintock Avenue\, Los Angeles\, CA\, 90089\, United States
END:VEVENT
BEGIN:VEVENT
DTSTART;TZID=America/Los_Angeles:20181005T083000
DTEND;TZID=America/Los_Angeles:20181005T163000
DTSTAMP:20180626T082323
CREATED:20180601T183110Z
LAST-MODIFIED:20180601T183150Z
UID:16709-1538728200-1538757000@gero.usc.edu
SUMMARY:2018 Morton Kesten Summit
DESCRIPTION:Transforming Homes and Communities to Support Healthy Aging:\nInnovations and Visions for the Future\nThe 2018 National Summit will explore developments in four key areas of supportive home environments: fall prevention\, home modification\, service connections\, and technology. Presenters from across the country will report on developments in national\, state\, and local policy\, research\, and innovative service delivery solutions. An expert panel will discuss our political climate and opportunities for the future. Attendees including professionals and practitioners from aging\, housing\, disability\, and healthcare sectors will gain a better understanding of new developments and current best practices in supportive home environments\, partnerships and initiatives in which to get involved\, and fresh insight into today’s national aging policy agendas. \n
URL:http://gero.usc.edu/event/2018-morton-kesten-summit/
LOCATION:3715 McClintock Avenue\, Los Angeles\, CA\, 90089\, United States
END:VEVENT
BEGIN:VEVENT
DTSTART;TZID=America/Los_Angeles:20181109T080000
DTEND;TZID=America/Los_Angeles:20181110T170000
DTSTAMP:20180626T082323
CREATED:20180601T195119Z
LAST-MODIFIED:20180601T195119Z
UID:16720-1541750400-1541869200@gero.usc.edu
SUMMARY:1st International Conference on Fasting\, Dietary Restriction\, Longevity and Disease
DESCRIPTION:The USC Longevity Institute presents the first International Conference on Fasting\, Dietary Restriction\, Longevity and Disease\nNovember 9-10\, 2018\nLos Angeles\, California \n\nSpeakers\nRicki J. Colman \nRafael de Cabo \nMichelle Harvie \nAndreas Michalsen \nJames R. Mitchell \nAlessio Nencioni \nSatchidananda Panda \nHanno Pijl \nEric Ravussin \nAmanda Salis \nKrista Varady \nValter Longo \n\n\nConference Schedule​ & RSVP\nComing soon \n
URL:http://gero.usc.edu/event/1st-international-conference-on-fasting-dietary-restriction-longevity-and-disease/
LOCATION:3715 McClintock Avenue\, Los Angeles\, CA\, 90089\, United States
END:VEVENT
END:VCALENDAR