BEGIN:VCALENDAR
VERSION:2.0
PRODID:-//USC Leonard Davis School of Gerontology - ECPv6.15.20//NONSGML v1.0//EN
CALSCALE:GREGORIAN
METHOD:PUBLISH
X-WR-CALNAME:USC Leonard Davis School of Gerontology
X-ORIGINAL-URL:https://gero.usc.edu
X-WR-CALDESC:Events for USC Leonard Davis School of Gerontology
REFRESH-INTERVAL;VALUE=DURATION:PT1H
X-Robots-Tag:noindex
X-PUBLISHED-TTL:PT1H
BEGIN:VTIMEZONE
TZID:America/Los_Angeles
BEGIN:DAYLIGHT
TZOFFSETFROM:-0800
TZOFFSETTO:-0700
TZNAME:PDT
DTSTART:20220313T100000
END:DAYLIGHT
BEGIN:STANDARD
TZOFFSETFROM:-0700
TZOFFSETTO:-0800
TZNAME:PST
DTSTART:20221106T090000
END:STANDARD
BEGIN:DAYLIGHT
TZOFFSETFROM:-0800
TZOFFSETTO:-0700
TZNAME:PDT
DTSTART:20230312T100000
END:DAYLIGHT
BEGIN:STANDARD
TZOFFSETFROM:-0700
TZOFFSETTO:-0800
TZNAME:PST
DTSTART:20231105T090000
END:STANDARD
BEGIN:DAYLIGHT
TZOFFSETFROM:-0800
TZOFFSETTO:-0700
TZNAME:PDT
DTSTART:20240310T100000
END:DAYLIGHT
BEGIN:STANDARD
TZOFFSETFROM:-0700
TZOFFSETTO:-0800
TZNAME:PST
DTSTART:20241103T090000
END:STANDARD
END:VTIMEZONE
BEGIN:VEVENT
DTSTART;TZID=America/Los_Angeles:20230407T130000
DTEND;TZID=America/Los_Angeles:20230407T140000
DTSTAMP:20260422T222825
CREATED:20230129T004739Z
LAST-MODIFIED:20260122T233135Z
UID:10000227-1680872400-1680876000@gero.usc.edu
SUMMARY:Admission Office Hours
DESCRIPTION:[vc_row type=”in_container” full_screen_row_position=”middle” column_margin=”default” column_direction=”default” column_direction_tablet=”default” column_direction_phone=”default” scene_position=”center” text_color=”dark” text_align=”left” row_border_radius=”none” row_border_radius_applies=”bg” overflow=”visible” overlay_strength=”0.3″ gradient_direction=”left_to_right” shape_divider_position=”bottom” bg_image_animation=”none”][vc_column column_padding=”no-extra-padding” column_padding_tablet=”inherit” column_padding_phone=”inherit” column_padding_position=”all” column_element_spacing=”default” background_color_opacity=”1″ background_hover_color_opacity=”1″ column_shadow=”none” column_border_radius=”none” column_link_target=”_self” column_position=”default” gradient_direction=”left_to_right” overlay_strength=”0.3″ width=”1/1″ tablet_width_inherit=”default” tablet_text_alignment=”default” phone_text_alignment=”default” animation_type=”default” bg_image_animation=”none” border_type=”simple” column_border_width=”none” column_border_style=”solid”][vc_column_text]Leonard Davis School admission counselors are hosting open office hours via Zoom. They will answer questions about our programs\, application process\, application deadlines and more.[/vc_column_text][nectar_btn size=”large” open_new_tab=”true” button_style=”regular” button_color_2=”Accent-Color” solid_text_color_override=”#ffffff” icon_family=”iconsmind” text=”Join the Meeting” url=”https://bit.ly/gero-office-hrs” icon_iconsmind=”iconsmind-Arrow-OutRight”][/vc_column][/vc_row]
URL:https://gero.usc.edu/event/admission-office-hours-4/2023-04-07/
LOCATION:Virtual event\, 3715 McClintock Avenue\, Los Angeles\, CA\, 90089\, United States
CATEGORIES:Admissions Events
ATTACH;FMTTYPE=image/jpeg:https://gero.usc.edu/wp-content/uploads/2022/08/AdmissionOfficeHours-scaled.jpg
GEO:34.0203027;-118.2907887
X-APPLE-STRUCTURED-LOCATION;VALUE=URI;X-ADDRESS=Virtual event 3715 McClintock Avenue Los Angeles CA 90089 United States;X-APPLE-RADIUS=500;X-TITLE=3715 McClintock Avenue:geo:-118.2907887,34.0203027
END:VEVENT
BEGIN:VEVENT
DTSTART;TZID=America/Los_Angeles:20230407T130000
DTEND;TZID=America/Los_Angeles:20230407T140000
DTSTAMP:20260422T222825
CREATED:20250922T162356Z
LAST-MODIFIED:20260122T232435Z
UID:10000547-1680872400-1680876000@gero.usc.edu
SUMMARY:Admission Office Hours
DESCRIPTION:[vc_row type=”in_container” full_screen_row_position=”middle” column_margin=”default” column_direction=”default” column_direction_tablet=”default” column_direction_phone=”default” scene_position=”center” text_color=”dark” text_align=”left” row_border_radius=”none” row_border_radius_applies=”bg” overflow=”visible” overlay_strength=”0.3″ gradient_direction=”left_to_right” shape_divider_position=”bottom” bg_image_animation=”none”][vc_column column_padding=”no-extra-padding” column_padding_tablet=”inherit” column_padding_phone=”inherit” column_padding_position=”all” column_element_spacing=”default” background_color_opacity=”1″ background_hover_color_opacity=”1″ column_shadow=”none” column_border_radius=”none” column_link_target=”_self” column_position=”default” gradient_direction=”left_to_right” overlay_strength=”0.3″ width=”1/1″ tablet_width_inherit=”default” tablet_text_alignment=”default” phone_text_alignment=”default” animation_type=”default” bg_image_animation=”none” border_type=”simple” column_border_width=”none” column_border_style=”solid”][vc_column_text]Leonard Davis School admission counselors are hosting open office hours via Zoom. They will answer questions about our programs\, application process\, application deadlines and more.[/vc_column_text][nectar_btn size=”large” open_new_tab=”true” button_style=”regular” button_color_2=”Accent-Color” solid_text_color_override=”#ffffff” icon_family=”iconsmind” text=”Join the Meeting” url=”https://bit.ly/gero-office-hrs” icon_iconsmind=”iconsmind-Arrow-OutRight”][/vc_column][/vc_row]
URL:https://gero.usc.edu/event/admission-office-hours-16/
LOCATION:Virtual event\, 3715 McClintock Avenue\, Los Angeles\, CA\, 90089\, United States
ATTACH;FMTTYPE=image/jpeg:https://gero.usc.edu/wp-content/uploads/2022/08/AdmissionOfficeHours-scaled.jpg
GEO:34.0203027;-118.2907887
X-APPLE-STRUCTURED-LOCATION;VALUE=URI;X-ADDRESS=Virtual event 3715 McClintock Avenue Los Angeles CA 90089 United States;X-APPLE-RADIUS=500;X-TITLE=3715 McClintock Avenue:geo:-118.2907887,34.0203027
END:VEVENT
BEGIN:VEVENT
DTSTART;TZID=America/Los_Angeles:20230407T130000
DTEND;TZID=America/Los_Angeles:20230407T140000
DTSTAMP:20260422T222825
CREATED:20250922T162359Z
LAST-MODIFIED:20260122T232423Z
UID:10000546-1680872400-1680876000@gero.usc.edu
SUMMARY:Admission Office Hours
DESCRIPTION:[vc_row type=”in_container” full_screen_row_position=”middle” column_margin=”default” column_direction=”default” column_direction_tablet=”default” column_direction_phone=”default” scene_position=”center” text_color=”dark” text_align=”left” row_border_radius=”none” row_border_radius_applies=”bg” overflow=”visible” overlay_strength=”0.3″ gradient_direction=”left_to_right” shape_divider_position=”bottom” bg_image_animation=”none”][vc_column column_padding=”no-extra-padding” column_padding_tablet=”inherit” column_padding_phone=”inherit” column_padding_position=”all” column_element_spacing=”default” background_color_opacity=”1″ background_hover_color_opacity=”1″ column_shadow=”none” column_border_radius=”none” column_link_target=”_self” column_position=”default” gradient_direction=”left_to_right” overlay_strength=”0.3″ width=”1/1″ tablet_width_inherit=”default” tablet_text_alignment=”default” phone_text_alignment=”default” animation_type=”default” bg_image_animation=”none” border_type=”simple” column_border_width=”none” column_border_style=”solid”][vc_column_text]Leonard Davis School admission counselors are hosting open office hours via Zoom. They will answer questions about our programs\, application process\, application deadlines and more.[/vc_column_text][nectar_btn size=”large” open_new_tab=”true” button_style=”regular” button_color_2=”Accent-Color” solid_text_color_override=”#ffffff” icon_family=”iconsmind” text=”Join the Meeting” url=”https://bit.ly/gero-office-hrs” icon_iconsmind=”iconsmind-Arrow-OutRight”][/vc_column][/vc_row]
URL:https://gero.usc.edu/event/admission-office-hours-16-2/
LOCATION:Virtual event\, 3715 McClintock Avenue\, Los Angeles\, CA\, 90089\, United States
ATTACH;FMTTYPE=image/jpeg:https://gero.usc.edu/wp-content/uploads/2022/08/AdmissionOfficeHours-scaled.jpg
GEO:34.0203027;-118.2907887
X-APPLE-STRUCTURED-LOCATION;VALUE=URI;X-ADDRESS=Virtual event 3715 McClintock Avenue Los Angeles CA 90089 United States;X-APPLE-RADIUS=500;X-TITLE=3715 McClintock Avenue:geo:-118.2907887,34.0203027
END:VEVENT
BEGIN:VEVENT
DTSTART;TZID=America/Los_Angeles:20230407T130000
DTEND;TZID=America/Los_Angeles:20230407T140000
DTSTAMP:20260422T222825
CREATED:20250922T162407Z
LAST-MODIFIED:20260122T232416Z
UID:10000545-1680872400-1680876000@gero.usc.edu
SUMMARY:Admission Office Hours
DESCRIPTION:[vc_row type=”in_container” full_screen_row_position=”middle” column_margin=”default” column_direction=”default” column_direction_tablet=”default” column_direction_phone=”default” scene_position=”center” text_color=”dark” text_align=”left” row_border_radius=”none” row_border_radius_applies=”bg” overflow=”visible” overlay_strength=”0.3″ gradient_direction=”left_to_right” shape_divider_position=”bottom” bg_image_animation=”none”][vc_column column_padding=”no-extra-padding” column_padding_tablet=”inherit” column_padding_phone=”inherit” column_padding_position=”all” column_element_spacing=”default” background_color_opacity=”1″ background_hover_color_opacity=”1″ column_shadow=”none” column_border_radius=”none” column_link_target=”_self” column_position=”default” gradient_direction=”left_to_right” overlay_strength=”0.3″ width=”1/1″ tablet_width_inherit=”default” tablet_text_alignment=”default” phone_text_alignment=”default” animation_type=”default” bg_image_animation=”none” border_type=”simple” column_border_width=”none” column_border_style=”solid”][vc_column_text]Leonard Davis School admission counselors are hosting open office hours via Zoom. They will answer questions about our programs\, application process\, application deadlines and more.[/vc_column_text][nectar_btn size=”large” open_new_tab=”true” button_style=”regular” button_color_2=”Accent-Color” solid_text_color_override=”#ffffff” icon_family=”iconsmind” text=”Join the Meeting” url=”https://bit.ly/gero-office-hrs” icon_iconsmind=”iconsmind-Arrow-OutRight”][/vc_column][/vc_row]
URL:https://gero.usc.edu/event/admission-office-hours-19/
LOCATION:Virtual event\, 3715 McClintock Avenue\, Los Angeles\, CA\, 90089\, United States
ATTACH;FMTTYPE=image/jpeg:https://gero.usc.edu/wp-content/uploads/2022/08/AdmissionOfficeHours-scaled.jpg
GEO:34.0203027;-118.2907887
X-APPLE-STRUCTURED-LOCATION;VALUE=URI;X-ADDRESS=Virtual event 3715 McClintock Avenue Los Angeles CA 90089 United States;X-APPLE-RADIUS=500;X-TITLE=3715 McClintock Avenue:geo:-118.2907887,34.0203027
END:VEVENT
END:VCALENDAR