BEGIN:VCALENDAR
VERSION:2.0
PRODID:-//USC Leonard Davis School of Gerontology - ECPv6.15.20//NONSGML v1.0//EN
CALSCALE:GREGORIAN
METHOD:PUBLISH
X-WR-CALNAME:USC Leonard Davis School of Gerontology
X-ORIGINAL-URL:https://gero.usc.edu
X-WR-CALDESC:Events for USC Leonard Davis School of Gerontology
REFRESH-INTERVAL;VALUE=DURATION:PT1H
X-Robots-Tag:noindex
X-PUBLISHED-TTL:PT1H
BEGIN:VTIMEZONE
TZID:America/Los_Angeles
BEGIN:DAYLIGHT
TZOFFSETFROM:-0800
TZOFFSETTO:-0700
TZNAME:PDT
DTSTART:20230312T100000
END:DAYLIGHT
BEGIN:STANDARD
TZOFFSETFROM:-0700
TZOFFSETTO:-0800
TZNAME:PST
DTSTART:20231105T090000
END:STANDARD
BEGIN:DAYLIGHT
TZOFFSETFROM:-0800
TZOFFSETTO:-0700
TZNAME:PDT
DTSTART:20240310T100000
END:DAYLIGHT
BEGIN:STANDARD
TZOFFSETFROM:-0700
TZOFFSETTO:-0800
TZNAME:PST
DTSTART:20241103T090000
END:STANDARD
BEGIN:DAYLIGHT
TZOFFSETFROM:-0800
TZOFFSETTO:-0700
TZNAME:PDT
DTSTART:20250309T100000
END:DAYLIGHT
BEGIN:STANDARD
TZOFFSETFROM:-0700
TZOFFSETTO:-0800
TZNAME:PST
DTSTART:20251102T090000
END:STANDARD
END:VTIMEZONE
BEGIN:VEVENT
DTSTART;TZID=America/Los_Angeles:20240822T083000
DTEND;TZID=America/Los_Angeles:20240822T103000
DTSTAMP:20260422T152336
CREATED:20240808T191456Z
LAST-MODIFIED:20260109T013741Z
UID:10000388-1724315400-1724322600@gero.usc.edu
SUMMARY:New Student Convocation
DESCRIPTION:President Carol L. Folt invites you to the New Student Convocation\, a celebration welcoming all incoming students on behalf of the USC community. Share your welcome experience and show your Trojan spirit on social media with #OfficialTrojan and/or #WelcomeTrojans
URL:https://gero.usc.edu/event/new-student-convocation/
LOCATION:Alumni Memorial Park\, 3551 Trousdale Parkway\, Los Angeles\, CA\, 90089\, United States
CATEGORIES:Admissions Events,Student Events
ATTACH;FMTTYPE=image/webp:https://gero.usc.edu/wp-content/uploads/2024/08/USC_UCOM_New_Student_Convocation_20230817_39_WEB-1280x720-1.webp
GEO:34.0208527;-118.2850224
X-APPLE-STRUCTURED-LOCATION;VALUE=URI;X-ADDRESS=Alumni Memorial Park 3551 Trousdale Parkway Los Angeles CA 90089 United States;X-APPLE-RADIUS=500;X-TITLE=3551 Trousdale Parkway:geo:-118.2850224,34.0208527
END:VEVENT
END:VCALENDAR