BEGIN:VCALENDAR
VERSION:2.0
PRODID:-//USC Leonard Davis School of Gerontology - ECPv6.15.20//NONSGML v1.0//EN
CALSCALE:GREGORIAN
METHOD:PUBLISH
X-WR-CALNAME:USC Leonard Davis School of Gerontology
X-ORIGINAL-URL:https://gero.usc.edu
X-WR-CALDESC:Events for USC Leonard Davis School of Gerontology
REFRESH-INTERVAL;VALUE=DURATION:PT1H
X-Robots-Tag:noindex
X-PUBLISHED-TTL:PT1H
BEGIN:VTIMEZONE
TZID:America/Los_Angeles
BEGIN:DAYLIGHT
TZOFFSETFROM:-0800
TZOFFSETTO:-0700
TZNAME:PDT
DTSTART:20230312T100000
END:DAYLIGHT
BEGIN:STANDARD
TZOFFSETFROM:-0700
TZOFFSETTO:-0800
TZNAME:PST
DTSTART:20231105T090000
END:STANDARD
BEGIN:DAYLIGHT
TZOFFSETFROM:-0800
TZOFFSETTO:-0700
TZNAME:PDT
DTSTART:20240310T100000
END:DAYLIGHT
BEGIN:STANDARD
TZOFFSETFROM:-0700
TZOFFSETTO:-0800
TZNAME:PST
DTSTART:20241103T090000
END:STANDARD
BEGIN:DAYLIGHT
TZOFFSETFROM:-0800
TZOFFSETTO:-0700
TZNAME:PDT
DTSTART:20250309T100000
END:DAYLIGHT
BEGIN:STANDARD
TZOFFSETFROM:-0700
TZOFFSETTO:-0800
TZNAME:PST
DTSTART:20251102T090000
END:STANDARD
END:VTIMEZONE
BEGIN:VEVENT
DTSTART;TZID=America/Los_Angeles:20240918T080000
DTEND;TZID=America/Los_Angeles:20241016T170000
DTSTAMP:20260422T234929
CREATED:20240919T200605Z
LAST-MODIFIED:20241008T170748Z
UID:10000426-1726646400-1729098000@gero.usc.edu
SUMMARY:Celebrating Latinx/e Heritage Month at USC
DESCRIPTION:[vc_row type=”in_container” full_screen_row_position=”middle” column_margin=”default” column_direction=”default” column_direction_tablet=”default” column_direction_phone=”default” scene_position=”center” text_color=”dark” text_align=”left” row_border_radius=”none” row_border_radius_applies=”bg” overflow=”visible” overlay_strength=”0.3″ gradient_direction=”left_to_right” shape_divider_position=”bottom” bg_image_animation=”none”][vc_column column_padding=”no-extra-padding” column_padding_tablet=”inherit” column_padding_phone=”inherit” column_padding_position=”all” column_element_direction_desktop=”default” column_element_spacing=”default” desktop_text_alignment=”default” tablet_text_alignment=”default” phone_text_alignment=”default” background_color_opacity=”1″ background_hover_color_opacity=”1″ column_backdrop_filter=”none” column_shadow=”none” column_border_radius=”none” column_link_target=”_self” column_position=”default” gradient_direction=”left_to_right” overlay_strength=”0.3″ width=”1/1″ tablet_width_inherit=”default” animation_type=”default” bg_image_animation=”none” border_type=”simple” column_border_width=”none” column_border_style=”solid”][vc_column_text css=”” text_direction=”default”]The USC Leonard Davis School of Gerontology is celebrating Latinx Heritage Month from September 18 to October 16. Join students\, faculty\, alumni\, and staff\, as we come together to honor Latinx culture and contributions. \nDon’t miss the exciting festivities and events planned throughout the month![/vc_column_text][nectar_btn size=”large” open_new_tab=”true” button_style=”regular” button_color_2=”Accent-Color” solid_text_color_override=”#ffffff” icon_family=”iconsmind” text=”Learn more” url=”https://we-are.usc.edu/celebrating-latinxe-heritage-month/” icon_iconsmind=”iconsmind-Arrow-OutRight”][/vc_column][/vc_row]
URL:https://gero.usc.edu/event/celebrating-latinx-e-heritage-month-at-usc/
LOCATION:The University of Southern California\, 3551 Trousdale Pkwy\, Los Angeles\, CA\, 90089\, United States
CATEGORIES:Student Events
ATTACH;FMTTYPE=image/png:https://gero.usc.edu/wp-content/uploads/2024/09/USC-Latinx-E-Heritage-Month.png
GEO:34.0220127;-118.2892046
X-APPLE-STRUCTURED-LOCATION;VALUE=URI;X-ADDRESS=The University of Southern California 3551 Trousdale Pkwy Los Angeles CA 90089 United States;X-APPLE-RADIUS=500;X-TITLE=3551 Trousdale Pkwy:geo:-118.2892046,34.0220127
END:VEVENT
END:VCALENDAR