BEGIN:VCALENDAR
VERSION:2.0
PRODID:-//USC Leonard Davis School of Gerontology - ECPv6.15.20//NONSGML v1.0//EN
CALSCALE:GREGORIAN
METHOD:PUBLISH
X-WR-CALNAME:USC Leonard Davis School of Gerontology
X-ORIGINAL-URL:https://gero.usc.edu
X-WR-CALDESC:Events for USC Leonard Davis School of Gerontology
REFRESH-INTERVAL;VALUE=DURATION:PT1H
X-Robots-Tag:noindex
X-PUBLISHED-TTL:PT1H
BEGIN:VTIMEZONE
TZID:America/Los_Angeles
BEGIN:DAYLIGHT
TZOFFSETFROM:-0800
TZOFFSETTO:-0700
TZNAME:PDT
DTSTART:20240310T100000
END:DAYLIGHT
BEGIN:STANDARD
TZOFFSETFROM:-0700
TZOFFSETTO:-0800
TZNAME:PST
DTSTART:20241103T090000
END:STANDARD
BEGIN:DAYLIGHT
TZOFFSETFROM:-0800
TZOFFSETTO:-0700
TZNAME:PDT
DTSTART:20250309T100000
END:DAYLIGHT
BEGIN:STANDARD
TZOFFSETFROM:-0700
TZOFFSETTO:-0800
TZNAME:PST
DTSTART:20251102T090000
END:STANDARD
BEGIN:DAYLIGHT
TZOFFSETFROM:-0800
TZOFFSETTO:-0700
TZNAME:PDT
DTSTART:20260308T100000
END:DAYLIGHT
BEGIN:STANDARD
TZOFFSETFROM:-0700
TZOFFSETTO:-0800
TZNAME:PST
DTSTART:20261101T090000
END:STANDARD
END:VTIMEZONE
BEGIN:VEVENT
DTSTART;TZID=America/Los_Angeles:20250410T120000
DTEND;TZID=America/Los_Angeles:20250410T130000
DTSTAMP:20260424T082353
CREATED:20250117T032407Z
LAST-MODIFIED:20250117T184017Z
UID:10000422-1744286400-1744290000@gero.usc.edu
SUMMARY:Speaker: Javier García Bermúdez\, PhD
DESCRIPTION:Please join us for a Colloquium Series lecture featuring Javier García Bermúdez\, PhD\, Assistant Professor\, Children’s Medical Center Research Institute at UT Southwestern | Pediatrics. \nLecture Information \nDate & Time: April 10\, 2025 12:00 PM Pacific Time (US and Canada)\nLocation: GER 224 and via Zoom
URL:https://gero.usc.edu/event/speaker-javier-garcia-bermudez-phd/
LOCATION:USC Leonard Davis School of Gerontology\, 3715 McClintock Avenue\, Los Angeles\, CA\, 90089\, United States
CATEGORIES:Colloquium Spring 2025,Multidisciplinary Research Colloquium Series,Research Events
ATTACH;FMTTYPE=image/jpeg:https://gero.usc.edu/wp-content/uploads/2025/01/Javi2-e1737084414633.jpg
GEO:34.0201476;-118.2904998
X-APPLE-STRUCTURED-LOCATION;VALUE=URI;X-ADDRESS=USC Leonard Davis School of Gerontology 3715 McClintock Avenue Los Angeles CA 90089 United States;X-APPLE-RADIUS=500;X-TITLE=3715 McClintock Avenue:geo:-118.2904998,34.0201476
END:VEVENT
END:VCALENDAR