BEGIN:VCALENDAR
VERSION:2.0
PRODID:-//USC Leonard Davis School of Gerontology - ECPv6.15.20//NONSGML v1.0//EN
CALSCALE:GREGORIAN
METHOD:PUBLISH
X-WR-CALNAME:USC Leonard Davis School of Gerontology
X-ORIGINAL-URL:https://gero.usc.edu
X-WR-CALDESC:Events for USC Leonard Davis School of Gerontology
REFRESH-INTERVAL;VALUE=DURATION:PT1H
X-Robots-Tag:noindex
X-PUBLISHED-TTL:PT1H
BEGIN:VTIMEZONE
TZID:America/Los_Angeles
BEGIN:DAYLIGHT
TZOFFSETFROM:-0800
TZOFFSETTO:-0700
TZNAME:PDT
DTSTART:20240310T100000
END:DAYLIGHT
BEGIN:STANDARD
TZOFFSETFROM:-0700
TZOFFSETTO:-0800
TZNAME:PST
DTSTART:20241103T090000
END:STANDARD
BEGIN:DAYLIGHT
TZOFFSETFROM:-0800
TZOFFSETTO:-0700
TZNAME:PDT
DTSTART:20250309T100000
END:DAYLIGHT
BEGIN:STANDARD
TZOFFSETFROM:-0700
TZOFFSETTO:-0800
TZNAME:PST
DTSTART:20251102T090000
END:STANDARD
BEGIN:DAYLIGHT
TZOFFSETFROM:-0800
TZOFFSETTO:-0700
TZNAME:PDT
DTSTART:20260308T100000
END:DAYLIGHT
BEGIN:STANDARD
TZOFFSETFROM:-0700
TZOFFSETTO:-0800
TZNAME:PST
DTSTART:20261101T090000
END:STANDARD
END:VTIMEZONE
BEGIN:VEVENT
DTSTART;VALUE=DATE:20251112
DTEND;VALUE=DATE:20251116
DTSTAMP:20260423T235553
CREATED:20251031T000312Z
LAST-MODIFIED:20251107T011745Z
UID:10000509-1762905600-1763251199@gero.usc.edu
SUMMARY:GSA 2025 Annual Scientific Meeting
DESCRIPTION:[vc_row type=”in_container” full_screen_row_position=”middle” column_margin=”default” column_direction=”default” column_direction_tablet=”default” column_direction_phone=”default” scene_position=”center” text_color=”dark” text_align=”left” row_border_radius=”none” row_border_radius_applies=”bg” overflow=”visible” overlay_strength=”0.3″ gradient_direction=”left_to_right” shape_divider_position=”bottom” bg_image_animation=”none”][vc_column column_padding=”no-extra-padding” column_padding_tablet=”inherit” column_padding_phone=”inherit” column_padding_position=”all” column_element_direction_desktop=”default” column_element_spacing=”default” desktop_text_alignment=”default” tablet_text_alignment=”default” phone_text_alignment=”default” background_color_opacity=”1″ background_hover_color_opacity=”1″ column_backdrop_filter=”none” column_shadow=”none” column_border_radius=”none” column_link_target=”_self” column_position=”default” gradient_direction=”left_to_right” overlay_strength=”0.3″ width=”1/1″ tablet_width_inherit=”default” animation_type=”default” bg_image_animation=”none” border_type=”simple” column_border_width=”none” column_border_style=”solid”][vc_column_text css=”” text_direction=”default”]Boston\, Massachusetts | November 12-15\, 2025[/vc_column_text][vc_column_text css=”” text_direction=”default”]Join us for the premier annual scientific meeting for cutting-edge scholarship\, research\, and networking relating to the fields of aging and gerontology. This year’s theme is “Innovative Horizons in Gerontology.” \nVisit the USC Leonard Davis School exhibitor booth #403 to connect with us at the event.[/vc_column_text][/vc_column][/vc_row][vc_row type=”full_width_background” full_screen_row_position=”middle” column_margin=”default” column_direction=”default” column_direction_tablet=”default” column_direction_phone=”default” scene_position=”center” constrain_group_2=”yes” text_color=”dark” text_align=”left” row_border_radius=”none” row_border_radius_applies=”bg” overflow=”visible” overlay_strength=”0.3″ gradient_direction=”left_to_right” shape_divider_position=”bottom” bg_image_animation=”none” gradient_type=”default” shape_type=””][vc_column column_padding=”no-extra-padding” column_padding_tablet=”inherit” column_padding_phone=”inherit” column_padding_position=”all” column_element_direction_desktop=”default” column_element_spacing=”default” desktop_text_alignment=”default” tablet_text_alignment=”default” phone_text_alignment=”default” background_color_opacity=”1″ background_hover_color_opacity=”1″ column_backdrop_filter=”none” column_shadow=”none” column_border_radius=”none” column_link_target=”_self” column_position=”default” gradient_direction=”left_to_right” overlay_strength=”0.3″ width=”1/1″ tablet_width_inherit=”default” animation_type=”default” bg_image_animation=”none” border_type=”simple” column_border_width=”none” column_border_style=”solid”][vc_column_text css=”” text_direction=”default”]Below is a table listing all presentations from USC Leonard Davis School and other USC schools and departments; for more details and the full conference program\, please visit the meeting website.[/vc_column_text][vc_column_text css=”” text_direction=”default”]\n                \n                \n                            \n                            \n                            \n                            \n                            \n                            \n                            \n                            \n                            \n                            \n                            \n                            \n                    \n        \n\n                                                                                                                                                                                                        DateTimeSession TitleTitleCategoryLocationFirst Author(s)Co-author(s)ChairCo-chairPanelistDiscussant\n\n\n\n        \n            Wednesday\, November 128:00 AM - 9:30 AM ETLeveraging Cross-National Environmental Data: Lessons Learned From the Gateway to Global Aging DataSymposiumHynes - Room 202Emma Nichols\, PhD MPH        \n            \n            Wednesday\, November 128:00 AM - 9:30 AM ETUnraveling Financial Exploitation in Older Adults: A Multidimensional ApproachSymposiumHynes - Room 306Daisy Noriega-Makarskyy\, M.S.Duke Han\, PhD\, ABPP-CN        \n            \n            Wednesday\, November 1210:00 AM - 11:30 AM ETAdult Protection and Elder Abuse5 - Screening for Elder Mistreatment Risk in Caregivers: Clinician Perspectives on Barriers\, Feasibility\, & ResponseSocial Research\, Policy\, and Practice PaperHynes - Room 303Kelly Marnfeldt\, PhD\, MSGEleanor Batista-Malat; Zachary Gassoumis\, PhD\, FGSA; Bonnie J. Olsen\, PhD; Laura Mosqueda\, MD; Alexis Coulourides Kogan\, PhD        \n            \n            Wednesday\, November 1210:00 AM - 11:30 AM ETLanguage\, Immigration and Global Health: The AmericasIs Limited English Proficiency or Speaking Spanish Associated with Medicare Advantage Enrollment?PaperHynes - Room 312Lilly Estenson\, MSWMireille Jacobson\, PhD        \n            \n            Wednesday\, November 1212:00 PM - 1:30 PM ETESPO and Social Research\, Policy\, and Practice Section Symposium: Innovative Translational Research to Improve Home Environment and Activity Performance for Aging in PlaceSymposiumHynes - Room 207Mengzhao Yan\, MA        \n            \n            Wednesday\, November 122:00 PM - 3:30 PM ETPolicy Series: Current Research\, Opportunities\, and Recommendations for Diverse Health and AgingSymposiumHynes - Room 207Paul Nash\, PhD\, CPsychol        \n            \n            Wednesday\, November 12\, 20256:00 PM - 7:15 PM ETLate Breaking Poster Session I452 - Polygenic Nature of Cortical Aging Reveals Cytoskeletal Regulation as a Core Pathway of ResilienceBiological Sciences PosterHynes - Exhibit Hall C - Poster Board 452Ayati Mishra\n        \n            \n            Wednesday\, November 126:00 PM - 7:15 PM ETLate Breaking Poster Session I368 - Classification Matters: Divergent Estimates of Dementia Risk Factors in the Health and Retirement StudyBehavioral and Social Sciences PosterExhibit Hall C - Poster Board 368Gina E. Nam\, PhD        \n            \n            Wednesday\, November 126:00 PM - 7:15 PM ETFamily Caregiving I182 - The Impact of Spousal Caregiving on Financial Well-Being: An Analysis of Subjective Financial StrainSocial Research\, Policy\, and Practice PosterHynes - Exhibit Hall C - Poster Board 182Susanna M. Mage\, PhD\, MADonna Benton\, PhD\, Kathleen H. Wilber\, PhD\, Yujun Zhu\, PhD\, Michael Hurlburt\, PhD        \n            \n            Thursday\, November 138:00 AM - 9:30 AM ETReconciling Counterintuitive Findings and Quantifying Potential Sources of Bias in Cognitive Aging ResearchSymposiumHynes - Room 101Yezhen Li\, PhDEmma Nichols\, Phd MPH        \n            \n            Thursday\, November 138:00 AM - 9:30 AM ETESPO and Behavioral and Social Sciences Section Symposium: Innovative Approaches to Advancing Environmental Justice in Aging ResearchSymposiumHynes - Room 102Hoda Abdel Magid\, PhD\, MHSEun Young Choi\, PhD        \n            \n            Thursday\, November 138:00 AM - 9:30 AM ETPresidential Symposium: Integrating Geroscience Across ScaleSymposiumHynes - Room 311Eileen Crimmins\, PhD        \n            \n            Thursday\, November 138:00 AM - 9:30 AM ETAssessing the Societal Costs of Cognitive Aging: Evidence From the US and MexicoSymposiumHynes - Room 203Emma Aguila\, PhD        \n            \n            Thursday\, November 1310:00 AM - 11:30 AM ETEnvironmental and Psychosocial Risks Across the Life Course: A public health perspective3 - Fine Particulate Matter Air Pollution and Lung Function Among U.S. Older Adults\nBiological and Social Sciences PaperHynes - Room 313Sung Eun Cho\, MA Eun Young Choi\, PhD; Jennifer Ailshire\, PhD        \n            \n            Thursday\, November 1312:00 PM - 1:30 PM ETNeighborhood and Environmental Context of Health and Aging: Mechanisms and HeterogeneitySymposiumHynes - Room 204Eun Young Choi\, PhD        \n            \n            Thursday\, November 1312:00 PM - 1:30 PM ETThe History of Social and Behavioral Research in GerontologySymposiumHynes - Room 305Kathleen Wilber\, PhD        \n            \n            Thursday\, November 1312:00 PM - 1:30 PM ETPsychosocial and Emotional Wellbeing of Older Adults With HIVSymposiumHynes - Room 308Paul Nash\, PhD        \n            \n            Thursday\, November 1312:00 PM - 1:30 PM ETBiological SciencesInnovative Approaches to Emerging Geroscience ChallengesBiological Sciences Invited SymposiumHynes - Room 311Cristal Hill\, PhD        \n            \n            Thursday\, November 1312:00 PM - 1:30 PM ETAdvancing Studies on Neighborhoods and Brain Health: New Methodologies and Underrepresented GroupsSymposiumHynes - Room 309Hoda Abdel Magid\, PhD\, MHS        \n            \n            Thursday\, November 131:45 PM - 3:00 PM ETDisparities171 - The Role of Perceived Sleep Quality in Mental and Cognitive Health among Older Residents in Subsidized HousingBehavioral and Social Sciences PosterHynes - Exhibit Hall C - Poster Board 171Yuri Jang\, PhD\, FGSA        \n            \n            Thursday\, November 131:45 PM - 3:00 PM ETEnd-of-life116 - Palliative Care Interventions Among Hispanic Inner-city Patients with Advanced Liver DiseaseSocial Research\, Policy\, and Practice PosterHynes - Exhibit Hall C - Poster Board 116Zachary Song        \n            \n            Thursday\, November 131:45 PM - 3:00 PM ETFamily Caregiving II233 - Exploring Characteristics of Caregivers Who are Financially Dependent on Their Care ReceiversSocial Research\, Policy\, and Practice PosterHynes - Exhibit Hall C - Poster Board 233\nEleanor Batista-Malat        \n            \n            Thursday\, November 131:45 PM - 3:00 PM ETLate Breaking Poster Session II458 - Predicting Re-Institutionalization in a Sample of Older Adults With Severe Mental IllnessBehavioral and Social Sciences PosterHynes - Exhibit Hall C - Poster Board 458Deborah G. Finkel\, Phd\, FGSA        \n            \n            Thursday\, November 134:30 PM - 6:00 PM ETAgeing in a Changing Climate: Risks\, Adaptations\, and Health ImpactsSymposiumHynes - Room 102Kristina Van Dang\, MPH\, PhD        \n            \n            Thursday\, November 134:30 PM - 6:00 PM ETLong-Term Care Policy and PracticePaperHynes - Room 111Amanda Chen\, PhD        \n            \n            Friday\, November 141:45 PM - 3:00 PM ETAging in Place59 - Dragon Grab Bars and Bamboo Canes: Exploring How Older Chinese Perceive Home Modifications and Assistive DevicesSocial Research\, Policy\, and Practice PosterHynes - Exhibit Hall C - Poster Board 59Mengzhao Yan\, MA        \n            \n            Friday\, November 141:45 PM - 3:00 PM ETAging in Place60 - Caregivers' Implementation of Home Modifications for Older Care RecipientsSocial Research\, Policy\, and Practice PosterHynes - Exhibit Hall C - Poster Board 60Mengzhao Yan\, MA        \n            \n            Friday\, November 141:45 PM - 3:00 PM ETLate Breaking Poster Session III440 - Perceptions of Value and Adoption of ADRD Modifying Drugs Among Physicians Around the U.S.Social Research\, Policy\, and Practice PosterHynes - Exhibit Hall C - Poster Board 440Dinithi Perera\, LLM\, Michelle Keller\, PhD\, MPH\, Chanelle Mizrahi        \n            \n            Friday\, November 141:45 PM - 3:00 PM ETLate Breaking Poster Session III421 - Limited Access to Post-Acute Rehabilitation Care at Skilled Nursing Facilities with MedicaidSocial Research\, Policy\, and Practice PosterHynes - Exhibit Hall C - Poster Board 421Lilly Estenson\, MSW        \n            \n            Friday\, November 141:45 PM - 3:00 PM ETMental Health II249 - Perception Of Major Life Events And Depression In Mid To Later Life: Findings From A Swedish Longitudinal StudyBehavioral and Social Sciences PosterHynes - Exhibit Hall C - Poster Board 249Deborah G. Finkel\, Phd\, FGSA        \n            \n            Friday\, November 148:00 AM - 9:30 AM ETGSA Journals Panel With the Editors-in-Chief: Recent Trends\, Developments\, and OpportunitiesSymposiumHynes - Room 309Duke Han\, PhD\, ABPP-CN        \n            \n            Friday\, November 148:00 AM - 9:30 AM ETLeveraging Data Science to Understand Aging TrajectoriesSymposiumHynes - Room 311Thalida Arpawong\, PhD        \n            \n            Friday\, November 1412:00 PM - 1:30 PM ETPsychological Sciences section of The Journals of Gerontology Series B: Featured 2024 Editor’s Choice ArticlesSymposiumHynes - Room 201Duke Han\, PhD\, ABPP-CN        \n            \n            Friday\, November 1412:00 PM - 1:30 PM ETAging Reprogrammed: Nutrition\, Metabolism\, and Health1 - Fasting Mimicking Diet Cycles\, Regeneration\, Biological Age\, and DiseaseBiological Sciences Invited SymposiumHynes - Room 311Valter Longo\, PhD        \n            \n            Friday\, November 141:45 PM - 3:00 PM ETSleep128 - The Mediating Role of Sleep Quality in the Association between Urinary Incontinence and Depressive SymptomsHealth Sciences PosterHynes - Exhibit Hall C - Poster Board 128Seo-Yun Choi\, MA        \n            \n            Friday\, November 141:45 PM - 3:00 PM ETLate Breaking Poster Session III459 - Spatial Heterogeneity of Social Vulnerabilities Associated with Colorectal Cancer Screening Rates in CaliforniaBehavioral and Social Sciences PosterHynes - Exhibit Hall C - Poster Board 459Jinbo Niu\, MS        \n            \n            Friday\, November 141:45 PM - 3:00 PM ETLate Breaking Poster Session III471 - The Association of Divorce and Late-Life Brain Health in a Racially and Ethnically Diverse Cohort of Older AdultsBehavioral and Social Sciences PosterHynes - Exhibit Hall C - Poster Board 471Suhani Amin        \n            \n            Friday\, November 141:45 PM - 3:00 PM ETSocial Isolation and Loneliness II260 - Identification of latent profiles of social isolation based on structural and functional aspectsBehavioral and Social Sciences PosterHynes - Exhibit Hall C - Poster Board 260Dokyung Yoon\, MA        \n            \n            Friday\, November 141:45 PM - 3:00 PM ETLate Breaking Poster Session III324 - Access and Use of Digital Devices are Associated with Less Loneliness Over Time Among Older AdultsBehavioral and Social Sciences PosterHynes - Exhibit Hall C - Poster Board 324Deborah G. Finkel\, Phd\, FGSA        \n            \n            Friday\, November 144:30 PM - 6:00 PM ETAdvancing Elder Mistreatment Research Through Theory: Exploring Mechanisms and Developing ModelsSymposiumHynes - Room 109Elizabeth Avent\, PhD\, Kelly Marnfeldt\, PhD\, MSGKelly Marnfeldt\, PhD\, MSGSusanna Mage\, PhD\, MAKathleen Wilber\, PhD        \n            \n            Friday\, November 144:30 PM - 6:00 PM ETPolicy Series: Fifty Plus: Elder Abuse - Past\, Present and FutureSymposiumHynes - Room 207Laura Mosqueda\, MD        \n            \n            Friday\, November 144:30 PM - 6:00 PM ETNovel Approaches to Understanding Education and Later-Life Cognitive HealthSymposiumHynes - Room 306Emma Nichols\, PhD MPH        \n            \n            Friday\, November 144:30 PM - 6:00 PM ETTransforming Gerontology: The Power of Minority Aging ResearchSymposiumHynes - Room 313María Aranda\, PhD\, MSW\, MPA\, LCSW        \n            \n            Friday\, November 144:30 PM - 6:00 PM ETSex Differences and AgingSymposiumHynes - Room 311Constanza Cortes\, PhD        \n            \n            Saturday\, November 158:00 AM - 9:30 AM ETCognitive Aging Across the Life Course: Mechanisms\, Measurement\, and Contextual InfluencesPaperHynes - Room 110Deborah Finkel\, Phd\, FGSA        \n            \n            Saturday\, November 1510:00 AM - 11:30 AM ETBiological SciencesMicrobiome\, Host-pathogen Interactions\, and AgingBiological Sciences Invited SymposiumHynes - Room 311Cristal Hill\, PhD        \n            \n            Saturday\, November 1510:00 AM - 11:30 AM ETMicrobiome\, Host-pathogen Interactions\, and Aging4 - Serotonin Signaling in Host-Pathogen ResponsesBiological Sciences Invited SymposiumHynes - Room 311Sean P. Curran\, PhD\, FGSA        \n            \n            Saturday\, November 1512:00 PM - 1:30 PM ETMethodological Challenges and Opportunities in Population Aging ResearchSymposiumHynes - Room 205Eleanor Hayes-Larson\, PhD\, MPH\, Emma Nichols\, PhD MPHEleanor Hayes-Larson\, PhD\, MPH        \n            \n            Saturday\, November 1512:00 PM - 1:30 PM ETBiology of Aging: Animal and Human ModelsMore than a loading control:Studying the actin cytoskeleton for novel anti-aging mechanismsHealth Sciences PaperHynes - Room 111Ryo Higuchi-Sanabria\, PhDMaxim Averbukh; Naibedya Dutta\, PhD; Daniel Hicks; Gilberto Garcia\, PhDMaria Shvedova\, MD\, PhD        \n            \n            Saturday\, November 153:30 PM - 5:00 PM ETHealth Equity and Aging 4 - How does Chronic Stress Impact Bioage and Inflammation among Older Black and White Adults?\nPaperHynes - Room 305Lauren L. Brown\, PhD\, MPHCalley Fisk\, PhD; Cameron Brown\, MS; Kenya Luna\, MALauren Brown\, PhD\, MPH        \n            \n            Saturday\, November 155:30 PM - 7:00 PM ETMeasurement Challenges and Solutions in Cross-National Cognitive Aging ResearchSymposiumHynes - Room 208Emma Nichols\, PhD MPH        \n            \n            Saturday\, November 151:45 PM - 3:00 PM ETLate Breaking Poster Session I475 - The Impact of Brain Age versus Chronological Age on Cognitive Fatigue: Novel Metrics and New InsightsBehavioral and Social Sciences PosterHynes - Exhibit Hall C - Poster Board 475Cristina AF Roman\, PhD        \n            \n            Saturday\, November 151:45 PM - 3:00 PM ETLate Breaking Poster Session IV343 - Cardiometabolic health\, nativity status and cognition among Latinos in the Health and Retirement StudyBehavioral and Social Sciences PosterHynes - Exhibit Hall C - Poster Board 343Kenya Luna\, MA        \n            \n            Saturday\, November 151:45 PM - 3:00 PM ETLate Breaking Poster Session IV394 - Housing and Epigenetic Age Acceleration in the United States: Results From a Nationally Representative SampleBehavioral and Social Sciences PosterHynes - Exhibit Hall C - Poster Board 394Tongyu Gu\, MA        \n            \n            Saturday\, November 151:45 PM - 3:00 PM ETLate Breaking Poster Session IV443 - Random Forest and SHAP Analysis on Social Vulnerability and Edentulism among US Adults 65 and OlderHealth Sciences PosterHynes - Exhibit Hall C - Poster Board 443        \n            \n            Saturday\, November 151:45 PM - 3:00 PM ETLate Breaking Poster Session IV388 - From Fear to Confidence: A Qualitative Study of Intergenerational Technology Support Among Low-Income Older AdultsSocial Research\, Policy\, and Practice PosterHynes - Exhibit Hall C - Poster Board 388Andrew Shinho Kim\, MAJohn Kim\, BS\, Carissa Liu\, BS\, Mengzhao Yan\, MA\, Min-Kyoung Rhee\, PhD        \n    \n    \n    \n    \n    \n\n[/vc_column_text][/vc_column][/vc_row]
URL:https://gero.usc.edu/event/gsa-2025/
LOCATION:Hynes Convention Center\, 900 Boylston St\, Boston\, MA\, 02115\, United States
CATEGORIES:Admissions Events,Alumni Events,Student Events,Talks/Workshops/Conferences
ATTACH;FMTTYPE=image/jpeg:https://gero.usc.edu/wp-content/uploads/2025/10/GSA-Announcement.jpg
GEO:42.3476071;-71.0852003
X-APPLE-STRUCTURED-LOCATION;VALUE=URI;X-ADDRESS=Hynes Convention Center 900 Boylston St Boston MA 02115 United States;X-APPLE-RADIUS=500;X-TITLE=900 Boylston St:geo:-71.0852003,42.3476071
END:VEVENT
END:VCALENDAR