BEGIN:VCALENDAR
VERSION:2.0
PRODID:-//USC Leonard Davis School of Gerontology - ECPv6.15.20//NONSGML v1.0//EN
CALSCALE:GREGORIAN
METHOD:PUBLISH
X-WR-CALNAME:USC Leonard Davis School of Gerontology
X-ORIGINAL-URL:https://gero.usc.edu
X-WR-CALDESC:Events for USC Leonard Davis School of Gerontology
REFRESH-INTERVAL;VALUE=DURATION:PT1H
X-Robots-Tag:noindex
X-PUBLISHED-TTL:PT1H
BEGIN:VTIMEZONE
TZID:America/Los_Angeles
BEGIN:DAYLIGHT
TZOFFSETFROM:-0800
TZOFFSETTO:-0700
TZNAME:PDT
DTSTART:20240310T100000
END:DAYLIGHT
BEGIN:STANDARD
TZOFFSETFROM:-0700
TZOFFSETTO:-0800
TZNAME:PST
DTSTART:20241103T090000
END:STANDARD
BEGIN:DAYLIGHT
TZOFFSETFROM:-0800
TZOFFSETTO:-0700
TZNAME:PDT
DTSTART:20250309T100000
END:DAYLIGHT
BEGIN:STANDARD
TZOFFSETFROM:-0700
TZOFFSETTO:-0800
TZNAME:PST
DTSTART:20251102T090000
END:STANDARD
BEGIN:DAYLIGHT
TZOFFSETFROM:-0800
TZOFFSETTO:-0700
TZNAME:PDT
DTSTART:20260308T100000
END:DAYLIGHT
BEGIN:STANDARD
TZOFFSETFROM:-0700
TZOFFSETTO:-0800
TZNAME:PST
DTSTART:20261101T090000
END:STANDARD
END:VTIMEZONE
BEGIN:VEVENT
DTSTART;VALUE=DATE:20251117
DTEND;VALUE=DATE:20251122
DTSTAMP:20260425T113113
CREATED:20251117T220136Z
LAST-MODIFIED:20251117T232907Z
UID:10000510-1763337600-1763769599@gero.usc.edu
SUMMARY:International Education Week 2025 Information Session
DESCRIPTION:[vc_row type=”in_container” full_screen_row_position=”middle” column_margin=”default” column_direction=”default” column_direction_tablet=”default” column_direction_phone=”default” scene_position=”center” text_color=”dark” text_align=”left” row_border_radius=”none” row_border_radius_applies=”bg” overflow=”visible” overlay_strength=”0.3″ gradient_direction=”left_to_right” shape_divider_position=”bottom” bg_image_animation=”none”][vc_column column_padding=”no-extra-padding” column_padding_tablet=”inherit” column_padding_phone=”inherit” column_padding_position=”all” column_element_direction_desktop=”default” column_element_spacing=”default” desktop_text_alignment=”default” tablet_text_alignment=”default” phone_text_alignment=”default” background_color_opacity=”1″ background_hover_color_opacity=”1″ column_backdrop_filter=”none” column_shadow=”none” column_border_radius=”none” column_link_target=”_self” column_position=”default” gradient_direction=”left_to_right” overlay_strength=”0.3″ width=”1/1″ tablet_width_inherit=”default” animation_type=”default” bg_image_animation=”none” border_type=”simple” column_border_width=”none” column_border_style=”solid”][vc_column_text css=”” text_direction=”default”]In honor of International Education Week 2025\, USC Leonard Davis School advisors will be hosting Opportunities in Aging: Gerontology Information Session on Wednesday\, November 19 from 4:00pm-5:00pm. \nAll students are invited to attend the events and programs around campus that celebrate global cultures and traditions through the arts and academics\, join informational sessions on studying abroad\, and engage with scholars discussing relevant international topics. \nEvents are listed on the International Education Week 2025 landing page and registration is recommended through the USC events calendar. The full IEW Schedule of Events is also available for download here.[/vc_column_text][nectar_btn size=”large” button_style=”regular” button_color_2=”Accent-Color” solid_text_color_override=”#FFFFFF” icon_family=”iconsmind” text=”View the event page” url=”https://global.usc.edu/iew-2025/” aria_label_text=”Link to view the event page” icon_iconsmind=”iconsmind-Arrow-OutRight”][/vc_column][/vc_row]
URL:https://gero.usc.edu/event/international-education-week-2025/
LOCATION:The University of Southern California\, 3551 Trousdale Pkwy\, Los Angeles\, CA\, 90089\, United States
CATEGORIES:Admissions Events,Student Events
ATTACH;FMTTYPE=image/webp:https://gero.usc.edu/wp-content/uploads/2025/11/IEW-Student-Performances-Promo-Image.webp
GEO:34.0220127;-118.2892046
X-APPLE-STRUCTURED-LOCATION;VALUE=URI;X-ADDRESS=The University of Southern California 3551 Trousdale Pkwy Los Angeles CA 90089 United States;X-APPLE-RADIUS=500;X-TITLE=3551 Trousdale Pkwy:geo:-118.2892046,34.0220127
END:VEVENT
END:VCALENDAR