BEGIN:VCALENDAR
VERSION:2.0
PRODID:-//USC Leonard Davis School of Gerontology - ECPv6.15.20//NONSGML v1.0//EN
CALSCALE:GREGORIAN
METHOD:PUBLISH
X-WR-CALNAME:USC Leonard Davis School of Gerontology
X-ORIGINAL-URL:https://gero.usc.edu
X-WR-CALDESC:Events for USC Leonard Davis School of Gerontology
REFRESH-INTERVAL;VALUE=DURATION:PT1H
X-Robots-Tag:noindex
X-PUBLISHED-TTL:PT1H
BEGIN:VTIMEZONE
TZID:America/Los_Angeles
BEGIN:DAYLIGHT
TZOFFSETFROM:-0800
TZOFFSETTO:-0700
TZNAME:PDT
DTSTART:20230312T100000
END:DAYLIGHT
BEGIN:STANDARD
TZOFFSETFROM:-0700
TZOFFSETTO:-0800
TZNAME:PST
DTSTART:20231105T090000
END:STANDARD
BEGIN:DAYLIGHT
TZOFFSETFROM:-0800
TZOFFSETTO:-0700
TZNAME:PDT
DTSTART:20240310T100000
END:DAYLIGHT
BEGIN:STANDARD
TZOFFSETFROM:-0700
TZOFFSETTO:-0800
TZNAME:PST
DTSTART:20241103T090000
END:STANDARD
BEGIN:DAYLIGHT
TZOFFSETFROM:-0800
TZOFFSETTO:-0700
TZNAME:PDT
DTSTART:20250309T100000
END:DAYLIGHT
BEGIN:STANDARD
TZOFFSETFROM:-0700
TZOFFSETTO:-0800
TZNAME:PST
DTSTART:20251102T090000
END:STANDARD
END:VTIMEZONE
BEGIN:VEVENT
DTSTART;TZID=America/Los_Angeles:20241107T120000
DTEND;TZID=America/Los_Angeles:20241107T130000
DTSTAMP:20260424T033245
CREATED:20240827T005240Z
LAST-MODIFIED:20240828T194429Z
UID:10000407-1730980800-1730984400@gero.usc.edu
SUMMARY:Speaker: Teal Eich\, PhD
DESCRIPTION:Please join us for a Colloquium Series lecture featuring Teal Eich\, PhD\, Assistant Professor of Gerontology and Psychology at USC Leonard Davis School of Gerontology. \nLecture Information\nDate & Time: November 7\, 2024 12:00 PM Pacific Time (US and Canada)\nLocation: GER 224 and via Zoom
URL:https://gero.usc.edu/event/speaker-teal-eich-phd/
LOCATION:USC Leonard Davis School of Gerontology\, 3715 McClintock Avenue\, Los Angeles\, CA\, 90089\, United States
CATEGORIES:Colloquium Fall 2024,Multidisciplinary Research Colloquium Series
ATTACH;FMTTYPE=image/jpeg:https://gero.usc.edu/wp-content/uploads/2024/08/DSC00130-web-e1724719937386.jpg
GEO:34.0201476;-118.2904998
X-APPLE-STRUCTURED-LOCATION;VALUE=URI;X-ADDRESS=USC Leonard Davis School of Gerontology 3715 McClintock Avenue Los Angeles CA 90089 United States;X-APPLE-RADIUS=500;X-TITLE=3715 McClintock Avenue:geo:-118.2904998,34.0201476
END:VEVENT
BEGIN:VEVENT
DTSTART;VALUE=DATE:20241113
DTEND;VALUE=DATE:20241117
DTSTAMP:20260424T033245
CREATED:20241104T231225Z
LAST-MODIFIED:20260109T013508Z
UID:10000431-1731456000-1731801599@gero.usc.edu
SUMMARY:GSA 2024 Annual Scientific Meeting
DESCRIPTION:[vc_row type=”in_container” full_screen_row_position=”middle” column_margin=”default” column_direction=”default” column_direction_tablet=”default” column_direction_phone=”default” scene_position=”center” text_color=”dark” text_align=”left” row_border_radius=”none” row_border_radius_applies=”bg” overflow=”visible” overlay_strength=”0.3″ gradient_direction=”left_to_right” shape_divider_position=”bottom” bg_image_animation=”none”][vc_column column_padding=”no-extra-padding” column_padding_tablet=”inherit” column_padding_phone=”inherit” column_padding_position=”all” column_element_direction_desktop=”default” column_element_spacing=”default” desktop_text_alignment=”default” tablet_text_alignment=”default” phone_text_alignment=”default” background_color_opacity=”1″ background_hover_color_opacity=”1″ column_backdrop_filter=”none” column_shadow=”none” column_border_radius=”none” column_link_target=”_self” column_position=”default” gradient_direction=”left_to_right” overlay_strength=”0.3″ width=”1/1″ tablet_width_inherit=”default” animation_type=”default” bg_image_animation=”none” border_type=”simple” column_border_width=”none” column_border_style=”solid”][vc_column_text css=”” text_direction=”default”]\nGSA 2024 Annual Scientific Meeting\nSeattle\, WA;  November 13 -16\, 2024 [/vc_column_text][vc_column_text css=”” text_direction=”default”]Join us for the premier annual scientific meeting for cutting-edge scholarship\, research\, and networking relating to the fields of aging and gerontology. This year’s theme is “The Fortitude Factor.” \nBelow is a table listing all presentations from USC Leonard Davis School and other USC schools and departments; for more details and the full conference program\, please visit the meeting website.[/vc_column_text][/vc_column][/vc_row][vc_row type=”full_width_background” full_screen_row_position=”middle” column_margin=”default” column_direction=”default” column_direction_tablet=”default” column_direction_phone=”default” scene_position=”center” constrain_group_2=”yes” text_color=”dark” text_align=”left” row_border_radius=”none” row_border_radius_applies=”bg” overflow=”visible” overlay_strength=”0.3″ gradient_direction=”left_to_right” shape_divider_position=”bottom” bg_image_animation=”none” gradient_type=”default” shape_type=””][vc_column column_padding=”no-extra-padding” column_padding_tablet=”inherit” column_padding_phone=”inherit” column_padding_position=”all” column_element_direction_desktop=”default” column_element_spacing=”default” desktop_text_alignment=”default” tablet_text_alignment=”default” phone_text_alignment=”default” background_color_opacity=”1″ background_hover_color_opacity=”1″ column_backdrop_filter=”none” column_shadow=”none” column_border_radius=”none” column_link_target=”_self” column_position=”default” gradient_direction=”left_to_right” overlay_strength=”0.3″ width=”1/1″ tablet_width_inherit=”default” animation_type=”default” bg_image_animation=”none” border_type=”simple” column_border_width=”none” column_border_style=”solid”][vc_column_text css=”” text_direction=”default”]\n                \n                \n                            \n                            \n                            \n                            \n                            \n                            \n                            \n                            \n                            \n                            \n                            \n                            \n                            \n                    \n        \n\n                                                                                                                                                                                                                        DateTimeTitleSessionCategoryLocationModeratorCo-authors/Other SpeakersFirst AuthorsDiscussantAward LecturerChairCo-chair\n\n\n\n        \n            Wednesday\, November 138:00 AM – 9:30 AM PST3 - Do Recommendations From Rehabilitation Therapists Motivate Older Adults to Install Home Modifications?Advancing Home Modification Service Delivery Through Synthesizing Data and EvidenceSymposiumRoom 607Maria Henke\, MAMengzhao Yan\, MA        \n            \n            Wednesday\, November 138:00 AM – 9:30 AM PSTMental Health Impact of Bullying by Ethnic Peers in Senior Housing: A Study With Older Korean American ResidentsUnderstanding Mental Health Dynamics in Later LifePaperRoom 604Yuri Jang\, PHD\, FGSAYuri Jang\, PHD\, FGSA        \n            \n            Wednesday\, November 1310:00 AM – 11:30 AM PSTPerson-Environment Fit Underlying Personality Development in Middle and Late AdulthoodLate-Life Experiences: Identity\, Migration\, Decision-Making\, and Well-BeingPaperRoom 607Christopher Beam\, PhDChristopher Beam\, PhD        \n            \n            Wednesday\, November 1310:00 AM – 11:30 AM PSTThe National Collaboratory to Address Elder Mistreatment Mentorship Program: Key Learnings and OpportunitiesSymposiumRoom 4C-2Laura Mosqueda\, MD\, FAAFP\, AGSF        \n            \n            Wednesday\, November 1312:00 PM – 1:30 PM PSTCross-National Comparison of Disability in Latin American Older AdultsAging in Latin America: Health\, Disparities\, and Outcomes Among Older adultsSymposiumRoom 205Margarita Maria Osuna\, B.SMargarita Maria Osuna\, B.S        \n            \n            Wednesday\, November 1312:00 PM – 1:30 PM PSTFinancial Exploitation Vulnerability in Older Age: Interpersonal and Brain MechanismsFool Me Once: Fresh Perspectives on Financial Vulnerability and Financial ExploitationSymposiumRoom 213Duke Han\, PhD\, ABPP-CN        \n            \n            Wednesday\, November 1312:00 PM – 1:30 PM PSTThe Impact of an Intensive Lifestyle Intervention in Type 2 Diabetes on Long-Term MultimorbidityLong-Term Impacts of a Lifestyle Intervention in Older Adults With Diabetes and Overweight or Obesity: Look AHEADSymposiumRoom 611Ian Davis\, MA        \n            \n            Wednesday\, November 1312:00 PM – 1:30 PM PSTStatewide Programs to Improve Dementia Detection and CareSymposiumRoom 203Soo Borson\, MD        \n            \n            Wednesday\, November 132:00 PM – 3:30 PM PSTADHD Genetic Burden Associates With Cognitive Decline and Alzheimer Disease Markers in Older AdultsAlzheimer's Disease and Related Dementias I (Papers)PaperRoom 204Thalida Em Arpawong\, PhD\, MPHThalida Em Arpawong\, PhD\, MPH        \n            \n            Wednesday\, November 132:00 PM – 3:30 PM PSTRegional Neuroanatomic Effects on Brain Age Inferred Using Magnetic Resonance Imaging and Ridge RegressionThis Is the Year That Was: The Best of the Journal of Gerontology Biological SciencesSymposiumRoom 2BAndrei Irimia\, PhD        \n            \n            Thursday\, November 1410:00 AM – 11:30 AM PSTEnhancing the Aging Workforce: The Case for Accreditation of Gerontology ProgramsRe-Energizing Gerontology: Barriers to Program Growth and What We Can Do About ThemSymposiumRoom 617Maria Henke\, MA        \n            \n            Thursday\, November 1412:00 PM – 1:30 PM PSTJournal of Gerontology: Psychological SciencesGSA Journals Panel With the Editors-in-ChiefSymposiumRoom 2BDuke Han\, PhD\, ABPP-CN        \n            \n            Thursday\, November 1412:00 PM – 1:30 PM PSTPreventing Elder Mistreatment Through the COACH Intervention: What's Risk Got to Do With It?Interventions to Prevent Elder Mistreatment With Family Caregivers of Persons Living With DementiaSymposiumRoom 613Kathleen Wilber\, PhD\, FGSA\, FAGHE        \n            \n            Thursday\, November 144:30 PM – 6:00 PM PSTBuilding More Age-Inclusive Campuses by Engaging With Retired FacultySymposiumRoom 602Caroline Cicero\, PhD\, MSW\, MPL        \n            \n            Thursday\, November 144:30 PM – 6:00 PM PSTHeat Exposure and Adaptive Immunity Among Older US AdultsClimate Change and Older PeopleSymposiumRoom 616Eunyoung Choi\, PhD        \n            \n            Thursday\, November 144:30 PM – 6:15 PM PSTThe Future of Aging Research: Opportunities and Challenges From Global Aging SurveysPresidential Symposium: Embracing Opportunities and Confronting Challenges in Global Aging ResearchSymposiumRoom 4C-2Jinkook Lee\, PhD        \n            \n            Friday\, November 15 8:00 AM – 9:30 AM PSTBiomarkers Help Us Understand How Cellular and Systemic Aging Contribute to MortalityPhysiological Aging and its Use as a Marker of Inequalities in Health: Cross-National PerspectivesSymposiumRoom 606Eric Klopack\, Ph.D.        \n            \n            Friday\, November 15 8:00 AM – 9:30 AM PSTExtreme Heat Exposure and Epigenetic Aging Acceleration Among Older Adults in the USThe Impact of Environmental Exposures on Dementia\, Physical\, Cognitive\, and Mental Health of Older AdultsSymposiumRoom 201Eunyoung Choi\, PhD        \n            \n            Friday\, November 1510:00 AM – 11:30 AM PSTAssociations Between Longitudinal Loneliness\, DNA Methylation Age Acceleration\, and Cognitive FunctioningJournal of Gerontology Psychological Sciences: Featured 2023 Editor’s Choice ArticlesSymposiumRoom 2ADuke Han\, PhD\, ABPP-CNMorgan Lynch\, MA        \n            \n            Friday\, November 1510:00 AM – 11:30 AM PSTNeighborhood Environment and Physical Activity Among Persons With DementiaNeighborhoods\, Communities\, and HealthPaperRoom 614Eunyoung Choi\, PhDEunyoung Choi\, PhD        \n            \n            Friday\, November 1510:00 AM – 11:30 AM PSTRecruiting Latino Caregivers Into Dementia-Related Research: Not for the Faint of HeartStrategies to Engage Latinos/x/e in Research: Case Studies on Brain Health\, Psychosocial Well-Being\, and CaregivingSymposiumRoom 604Maria Aranda\, PhD\, MSW\, MPA\, LCSWMaria Aranda\, PhD\, MSW\, MPA\, LCSW        \n            \n            Friday\, November 1512:00 PM – 1:30 PM PSTFamily Typology and Mental Health in Older Korean AmericansVariations in Family and Community Resources Among Diverse Aging Immigrant PopulationsSymposiumRoom 615Yuri Jang\, PHD\, FGSA        \n            \n            Friday\, November 154:30 PM – 6:00 PM PSTSustaining Values and Charting FuturesLessons from the Past\, Visions for Tomorrow: Gerontology and GSA in RetrospectSymposiumRoom 618Kathleen Wilber\, PhD\, FGSA\, FAGHE        \n            \n            Friday\, November 154:30 PM – 6:00 PM PSTMental and Physical Health of Older Adults: Insights From Cross-National ContextsSymposiumRoom 609Emma Nichols\, PhD\, MPHEunyoung Choi\, PhD        \n            \n            Saturday\, November 168:00 AM – 9:30 AM PSTLatent Classes and Progression of MMSE in Young-Onset Dementia: Data From the Swedish Dementia RegisterCognitive Function and Impairment in Older AdultsPaperRoom 3BDeborah Finkel\, Phd\, FGSADeborah Finkel\, Phd\, FGSA        \n            \n            Saturday\, November 1610:30 AM – 11:30 AM PSTLoose Coupling? A Caregiver\, a Guardian\, and an Abuser Jump From a Plane With One Parachute: Who Survives?Donald P. Kent and Robert W. Kleemeier Award LecturesAward Lecture (Invite Only)Ballroom 6ABCKathleen Wilber\, PhD\, FGSA\, FAGHE        \n            \n            Saturday\, November 163:30 PM – 5:00 PM PSTDevelopment of a Risk Screen of Elder Abuse in Caregivers of People Living With DementiaImproving Elder Mistreatment Screening and Intervention in Dementia: Early NIA Research FindingsSymposiumRoom 606Bonnie Olsen\, PhD        \n            \n            Saturday\, November 163:30 PM – 5:00 PM PSTStability of Cognitive Ability and Effect of Education Across 58 Years: A Project Talent Aging StudyNovel Approaches and Data Sources to Investigate Lifespan Associations From Early Exposures to Later Life HealthSymposiumRoom 3BThalida Em Arpawong\, PhD\, MPH        \n            \n            Saturday\, November 163:30 PM – 5:00 PM PSTEnriching Early-Life Activities and Later-Life Cognition: The Moderating Role of Multiple Social PositionsSocial Determinants of Cognitive FunctionPaperRoom 603Addam Reynolds\, PhD\, MSWAddam Reynolds\, PhD\, MSW        \n            \n            Saturday\, November 163:30 PM – 5:00 PM PSTA Meta-Analysis of Extracellular Vesicles Biomarkers in the Diagnosis of Alzheimer's Disease and Related DementiasLate Breaking: Alzheimer’s Disease\, Including Alzheimer’s Disease—Related Dementias IVPaperRoom 615Hash Brown Taha\, MSHash Brown Taha\, MS        \n    \n    \n    \n    \n    \n\n[/vc_column_text][/vc_column][/vc_row]
URL:https://gero.usc.edu/event/gsa-2024-annual-scientific-meeting/
LOCATION:Seattle Convention Center\, 705 Pike St\, Seattle\, OR\, 98101\, United States
CATEGORIES:Alumni Events,Research Events,Student Events,Talks/Workshops/Conferences
ATTACH;FMTTYPE=image/jpeg:https://gero.usc.edu/wp-content/uploads/2024/11/GSA-header.jpg
GEO:47.6121275;-122.3318869
X-APPLE-STRUCTURED-LOCATION;VALUE=URI;X-ADDRESS=Seattle Convention Center 705 Pike St Seattle OR 98101 United States;X-APPLE-RADIUS=500;X-TITLE=705 Pike St:geo:-122.3318869,47.6121275
END:VEVENT
BEGIN:VEVENT
DTSTART;TZID=America/Los_Angeles:20241121T120000
DTEND;TZID=America/Los_Angeles:20241121T130000
DTSTAMP:20260424T033245
CREATED:20240827T005754Z
LAST-MODIFIED:20241119T200702Z
UID:10000409-1732190400-1732194000@gero.usc.edu
SUMMARY:Speaker: Michael Stout\, PhD
DESCRIPTION:Please join us for a Colloquium Series lecture\, “Quest for Sex-specific Targets to Curtail Aging and Chronic Disease Burden\,” presented by Michael Stout\, PhD.\, Associate Professor at the Oklahoma Medical Research Foundation. \nLecture Information\nDate & Time: November 21\, 2024 12:00 PM Pacific Time (US and Canada)\nLocation: GER 224 and via Zoom
URL:https://gero.usc.edu/event/speaker-michael-stout-phd/
LOCATION:USC Leonard Davis School of Gerontology\, 3715 McClintock Avenue\, Los Angeles\, CA\, 90089\, United States
CATEGORIES:Colloquium Fall 2024,Multidisciplinary Research Colloquium Series
ATTACH;FMTTYPE=image/jpeg:https://gero.usc.edu/wp-content/uploads/2024/08/stout_large-300-350-c-C-95.jpg
GEO:34.0201476;-118.2904998
X-APPLE-STRUCTURED-LOCATION;VALUE=URI;X-ADDRESS=USC Leonard Davis School of Gerontology 3715 McClintock Avenue Los Angeles CA 90089 United States;X-APPLE-RADIUS=500;X-TITLE=3715 McClintock Avenue:geo:-118.2904998,34.0201476
END:VEVENT
BEGIN:VEVENT
DTSTART;TZID=America/Los_Angeles:20241121T130000
DTEND;TZID=America/Los_Angeles:20241121T140000
DTSTAMP:20260424T033245
CREATED:20240813T223930Z
LAST-MODIFIED:20241025T225936Z
UID:10000399-1732194000-1732197600@gero.usc.edu
SUMMARY:Admission Office Hours
DESCRIPTION:[vc_row type=”in_container” full_screen_row_position=”middle” column_margin=”default” column_direction=”default” column_direction_tablet=”default” column_direction_phone=”default” scene_position=”center” text_color=”dark” text_align=”left” row_border_radius=”none” row_border_radius_applies=”bg” overflow=”visible” overlay_strength=”0.3″ gradient_direction=”left_to_right” shape_divider_position=”bottom” bg_image_animation=”none”][vc_column column_padding=”no-extra-padding” column_padding_tablet=”inherit” column_padding_phone=”inherit” column_padding_position=”all” column_element_spacing=”default” background_color_opacity=”1″ background_hover_color_opacity=”1″ column_shadow=”none” column_border_radius=”none” column_link_target=”_self” column_position=”default” gradient_direction=”left_to_right” overlay_strength=”0.3″ width=”1/1″ tablet_width_inherit=”default” tablet_text_alignment=”default” phone_text_alignment=”default” animation_type=”default” bg_image_animation=”none” border_type=”simple” column_border_width=”none” column_border_style=”solid”][vc_column_text]Leonard Davis School admission counselors are hosting open office hours via Zoom. They will answer questions about our programs\, application process\, application deadlines and more.[/vc_column_text][nectar_btn size=”large” open_new_tab=”true” button_style=”regular” button_color_2=”Accent-Color” solid_text_color_override=”#ffffff” icon_family=”iconsmind” text=”Join the Meeting” url=”https://bit.ly/gero-office-hrs” icon_iconsmind=”iconsmind-Arrow-OutRight”][/vc_column][/vc_row]
URL:https://gero.usc.edu/event/admission-office-hours-6/2024-11-21/
LOCATION:USC Leonard Davis School of Gerontology\, 3715 McClintock Avenue\, Los Angeles\, CA\, 90089\, United States
CATEGORIES:Admissions Events
ATTACH;FMTTYPE=image/jpeg:https://gero.usc.edu/wp-content/uploads/2022/08/AdmissionOfficeHours-scaled.jpg
GEO:34.0201476;-118.2904998
X-APPLE-STRUCTURED-LOCATION;VALUE=URI;X-ADDRESS=USC Leonard Davis School of Gerontology 3715 McClintock Avenue Los Angeles CA 90089 United States;X-APPLE-RADIUS=500;X-TITLE=3715 McClintock Avenue:geo:-118.2904998,34.0201476
END:VEVENT
BEGIN:VEVENT
DTSTART;TZID=America/Los_Angeles:20241122T150000
DTEND;TZID=America/Los_Angeles:20241122T160000
DTSTAMP:20260424T033245
CREATED:20241015T023220Z
LAST-MODIFIED:20241101T160436Z
UID:10000428-1732287600-1732291200@gero.usc.edu
SUMMARY:Kesten Memorial Lecture: Caleb Finch\, PhD
DESCRIPTION:Please join us for the annual Kesten Memorial lecture featuring Caleb Finch\, PhD. \nLecture Information\nDate & Time: November 22\, 2024 3:00-4:00 PM Pacific Time (US and Canada)\nLocation: GER 224 and via Zoom
URL:https://gero.usc.edu/event/kesten-memorial-lecture-caleb-finch/
LOCATION:USC Leonard Davis School of Gerontology\, 3715 McClintock Avenue\, Los Angeles\, CA\, 90089\, United States
CATEGORIES:Colloquium Fall 2024,Multidisciplinary Research Colloquium Series
ATTACH;FMTTYPE=image/jpeg:https://gero.usc.edu/wp-content/uploads/2015/07/Caleb-Finch.jpg
GEO:34.0201476;-118.2904998
X-APPLE-STRUCTURED-LOCATION;VALUE=URI;X-ADDRESS=USC Leonard Davis School of Gerontology 3715 McClintock Avenue Los Angeles CA 90089 United States;X-APPLE-RADIUS=500;X-TITLE=3715 McClintock Avenue:geo:-118.2904998,34.0201476
END:VEVENT
BEGIN:VEVENT
DTSTART;TZID=America/Los_Angeles:20241122T153000
DTEND;TZID=America/Los_Angeles:20241122T170000
DTSTAMP:20260424T033245
CREATED:20241028T214254Z
LAST-MODIFIED:20241101T180956Z
UID:10000429-1732289400-1732294800@gero.usc.edu
SUMMARY:Open House for Prospective Students
DESCRIPTION:[vc_row type=”in_container” full_screen_row_position=”middle” column_margin=”default” column_direction=”default” column_direction_tablet=”default” column_direction_phone=”default” scene_position=”center” text_color=”dark” text_align=”left” row_border_radius=”none” row_border_radius_applies=”bg” overflow=”visible” overlay_strength=”0.3″ gradient_direction=”left_to_right” shape_divider_position=”bottom” bg_image_animation=”none”][vc_column column_padding=”no-extra-padding” column_padding_tablet=”inherit” column_padding_phone=”inherit” column_padding_position=”all” column_element_direction_desktop=”default” column_element_spacing=”default” desktop_text_alignment=”default” tablet_text_alignment=”default” phone_text_alignment=”default” background_color_opacity=”1″ background_hover_color_opacity=”1″ column_backdrop_filter=”none” column_shadow=”none” column_border_radius=”none” column_link_target=”_self” column_position=”default” gradient_direction=”left_to_right” overlay_strength=”0.3″ width=”1/1″ tablet_width_inherit=”default” animation_type=”default” bg_image_animation=”none” border_type=”simple” column_border_width=”none” column_border_style=”solid”][vc_column_text]\nJoin us on campus to meet faculty\, current students\, and alumni of the USC Leonard Davis School of Gerontology at our Open House event. \nThis is a great opportunity to meet the Senior Associate Dean and learn more about our graduate programs\, study abroad courses\, and student organizations. \nWe will also host a reception where you can mingle with our admission counselors\, other prospective students\, or ask any questions about our school\, programs\, or next steps in the admission process. \n\nNovember 22\, 2024\n3:30 pm – 5:00 pm PST\nEthel Percy Andrus Gerontology Center\n\n[/vc_column_text][nectar_btn size=”large” open_new_tab=”true” button_style=”regular” button_color_2=”Accent-Color” solid_text_color_override=”#ffffff” icon_family=”iconsmind” text=”RSVP” url=”https://docs.google.com/forms/d/e/1FAIpQLSeRReLuCoiXKcX7DerBBvblgCcUdYTz1PfaQ-EZO4EFUHlpeQ/viewform” icon_iconsmind=”iconsmind-Envelope”][/vc_column][/vc_row]
URL:https://gero.usc.edu/event/open-house-for-prospective-students/
LOCATION:USC Leonard Davis School of Gerontology\, 3715 McClintock Avenue\, Los Angeles\, CA\, 90089\, United States
CATEGORIES:Admissions Events
ATTACH;FMTTYPE=image/png:https://gero.usc.edu/wp-content/uploads/2024/10/Open-House-Admissions-Event.png
GEO:34.0201476;-118.2904998
X-APPLE-STRUCTURED-LOCATION;VALUE=URI;X-ADDRESS=USC Leonard Davis School of Gerontology 3715 McClintock Avenue Los Angeles CA 90089 United States;X-APPLE-RADIUS=500;X-TITLE=3715 McClintock Avenue:geo:-118.2904998,34.0201476
END:VEVENT
END:VCALENDAR