BEGIN:VCALENDAR
VERSION:2.0
PRODID:-//USC Leonard Davis School of Gerontology - ECPv6.15.20//NONSGML v1.0//EN
CALSCALE:GREGORIAN
METHOD:PUBLISH
X-WR-CALNAME:USC Leonard Davis School of Gerontology
X-ORIGINAL-URL:https://gero.usc.edu
X-WR-CALDESC:Events for USC Leonard Davis School of Gerontology
REFRESH-INTERVAL;VALUE=DURATION:PT1H
X-Robots-Tag:noindex
X-PUBLISHED-TTL:PT1H
BEGIN:VTIMEZONE
TZID:America/Los_Angeles
BEGIN:DAYLIGHT
TZOFFSETFROM:-0800
TZOFFSETTO:-0700
TZNAME:PDT
DTSTART:20240310T100000
END:DAYLIGHT
BEGIN:STANDARD
TZOFFSETFROM:-0700
TZOFFSETTO:-0800
TZNAME:PST
DTSTART:20241103T090000
END:STANDARD
BEGIN:DAYLIGHT
TZOFFSETFROM:-0800
TZOFFSETTO:-0700
TZNAME:PDT
DTSTART:20250309T100000
END:DAYLIGHT
BEGIN:STANDARD
TZOFFSETFROM:-0700
TZOFFSETTO:-0800
TZNAME:PST
DTSTART:20251102T090000
END:STANDARD
BEGIN:DAYLIGHT
TZOFFSETFROM:-0800
TZOFFSETTO:-0700
TZNAME:PDT
DTSTART:20260308T100000
END:DAYLIGHT
BEGIN:STANDARD
TZOFFSETFROM:-0700
TZOFFSETTO:-0800
TZNAME:PST
DTSTART:20261101T090000
END:STANDARD
END:VTIMEZONE
BEGIN:VEVENT
DTSTART;TZID=America/Los_Angeles:20250612T150000
DTEND;TZID=America/Los_Angeles:20250612T160000
DTSTAMP:20260423T042739
CREATED:20250211T193901Z
LAST-MODIFIED:20250506T031721Z
UID:10000445-1749740400-1749744000@gero.usc.edu
SUMMARY:Admission Office Hours
DESCRIPTION:[vc_row type=”in_container” full_screen_row_position=”middle” column_margin=”default” column_direction=”default” column_direction_tablet=”default” column_direction_phone=”default” scene_position=”center” text_color=”dark” text_align=”left” row_border_radius=”none” row_border_radius_applies=”bg” overflow=”visible” overlay_strength=”0.3″ gradient_direction=”left_to_right” shape_divider_position=”bottom” bg_image_animation=”none”][vc_column column_padding=”no-extra-padding” column_padding_tablet=”inherit” column_padding_phone=”inherit” column_padding_position=”all” column_element_direction_desktop=”default” column_element_spacing=”default” desktop_text_alignment=”default” tablet_text_alignment=”default” phone_text_alignment=”default” background_color_opacity=”1″ background_hover_color_opacity=”1″ column_backdrop_filter=”none” column_shadow=”none” column_border_radius=”none” column_link_target=”_self” column_position=”default” gradient_direction=”left_to_right” overlay_strength=”0.3″ width=”1/1″ tablet_width_inherit=”default” animation_type=”default” bg_image_animation=”none” border_type=”simple” column_border_width=”none” column_border_style=”solid”][vc_column_text]\n\n\nLeonard Davis School admission counselors are hosting open office hours via Zoom. They will answer questions about our programs\, application process\, application deadlines and more. \n\n\n[/vc_column_text][nectar_btn size=”large” button_style=”regular” button_color_2=”Accent-Color” icon_family=”none” text=”Join the Meeting” url=”https://bit.ly/gero-office-hrs”][/vc_column][/vc_row]
URL:https://gero.usc.edu/event/2025-admission-office-hours/2025-06-12/
LOCATION:USC Leonard Davis School of Gerontology\, 3715 McClintock Avenue\, Los Angeles\, CA\, 90089\, United States
CATEGORIES:Admissions Events
ATTACH;FMTTYPE=image/jpeg:https://gero.usc.edu/wp-content/uploads/2022/08/AdmissionOfficeHours-scaled.jpg
GEO:34.0201476;-118.2904998
X-APPLE-STRUCTURED-LOCATION;VALUE=URI;X-ADDRESS=USC Leonard Davis School of Gerontology 3715 McClintock Avenue Los Angeles CA 90089 United States;X-APPLE-RADIUS=500;X-TITLE=3715 McClintock Avenue:geo:-118.2904998,34.0201476
END:VEVENT
BEGIN:VEVENT
DTSTART;TZID=America/Los_Angeles:20250624T150000
DTEND;TZID=America/Los_Angeles:20250624T160000
DTSTAMP:20260423T042739
CREATED:20250624T080109Z
LAST-MODIFIED:20250624T080109Z
UID:10000454-1750777200-1750780800@gero.usc.edu
SUMMARY:GeroConnect Webinar Series
DESCRIPTION:[vc_row type=”in_container” full_screen_row_position=”middle” column_margin=”default” column_direction=”default” column_direction_tablet=”default” column_direction_phone=”default” scene_position=”center” text_color=”dark” text_align=”left” row_border_radius=”none” row_border_radius_applies=”bg” overflow=”visible” overlay_strength=”0.3″ gradient_direction=”left_to_right” shape_divider_position=”bottom” bg_image_animation=”none”][vc_column column_padding=”no-extra-padding” column_padding_tablet=”inherit” column_padding_phone=”inherit” column_padding_position=”all” column_element_direction_desktop=”default” column_element_spacing=”default” desktop_text_alignment=”default” tablet_text_alignment=”default” phone_text_alignment=”default” background_color_opacity=”1″ background_hover_color_opacity=”1″ column_backdrop_filter=”none” column_shadow=”none” column_border_radius=”none” column_link_target=”_self” column_position=”default” gradient_direction=”left_to_right” overlay_strength=”0.3″ width=”1/1″ tablet_width_inherit=”default” animation_type=”default” bg_image_animation=”none” border_type=”simple” column_border_width=”none” column_border_style=”solid”][vc_column_text css=”” text_direction=”default”]The six-part series focuses on advancing the field of aging and preparing you to become a leader in improving the lives of older adults. Listen to an expert present groundbreaking research\, current students and alumni describe their experiences\, and our admission counselor discuss the wide range of degree programs and learning tracks to launch you toward your professional goals. \nAll sessions will be offered at two convenient times on Tuesdays at 3pm PST and 8:30pm PST. Join us with the following Zoom webinar information: \nJoin Via Zoom\nWebinar ID: 988 9806 4214\nWebinar Passcode: 138973[/vc_column_text][nectar_btn size=”large” button_style=”regular” button_color_2=”Accent-Color” solid_text_color_override=”#ffffff” icon_family=”none” text=”Register to join” url=”https://docs.google.com/forms/d/e/1FAIpQLSeMHxWqjaX2VeLzocwWvZFFrPn-b1pE7zGHZixfhtHuFX1g1g/viewform”][divider line_type=”Full Width Line” line_thickness=”1″ divider_color=”default” custom_height=”50″ custom_height_tablet=”50″ custom_height_phone=”50″][vc_column_text css=”” text_direction=”default”]\nWebinar Schedule\n3:00pm PST on June 24 – Journey to Gerontology at USC: The Flagship Degree\n8:30pm PST on June 24 – Journey to Gerontology at USC: The Flagship Degree\n3:00pm PST on July 1 – Path to Impact: Business and Care Leadership\n8:30pm PST on July 1 – Path to Impact: Business and Care Leadership\n3:00pm PST on July 15 – Aging in Action: Gerontology and Geroscience Research\n8:30pm PST on July 15 – Aging in Action: Gerontology and Geroscience Research\n3:00pm PST on July 22 – Future of AgeTech: Medicine and the Lifespan\n8:30pm PST on July 22 – Future of AgeTech: Medicine and the Lifespan\n3:00pm PST on July 29 – Global Longevity: Approaches to Nutrition and Dietetics\n8:30pm PST on July 29 – Global Longevity: Approaches to Nutrition and Dietetics\n3:00pm PST on August 5 – Glimpse of Grad School at Leonard Davis School of Gerontology\n8:30pm PST on August 5 – Glimpse of Grad School at Leonard Davis School of Gerontology[/vc_column_text][/vc_column][/vc_row]
URL:https://gero.usc.edu/event/geroconnect-webinar-series/2025-06-24/
LOCATION:USC Leonard Davis School of Gerontology\, 3715 McClintock Avenue\, Los Angeles\, CA\, 90089\, United States
CATEGORIES:Admissions Events
ATTACH;FMTTYPE=image/png:https://gero.usc.edu/wp-content/uploads/2025/06/Screenshot-2025-06-23-at-11.14.52 PM-e1758834700329.png
GEO:34.0201476;-118.2904998
X-APPLE-STRUCTURED-LOCATION;VALUE=URI;X-ADDRESS=USC Leonard Davis School of Gerontology 3715 McClintock Avenue Los Angeles CA 90089 United States;X-APPLE-RADIUS=500;X-TITLE=3715 McClintock Avenue:geo:-118.2904998,34.0201476
END:VEVENT
BEGIN:VEVENT
DTSTART;TZID=America/Los_Angeles:20250624T203000
DTEND;TZID=America/Los_Angeles:20250624T213000
DTSTAMP:20260423T042739
CREATED:20250624T080409Z
LAST-MODIFIED:20250624T080427Z
UID:10000467-1750797000-1750800600@gero.usc.edu
SUMMARY:GeroConnect Webinar Series
DESCRIPTION:[vc_row type=”in_container” full_screen_row_position=”middle” column_margin=”default” column_direction=”default” column_direction_tablet=”default” column_direction_phone=”default” scene_position=”center” text_color=”dark” text_align=”left” row_border_radius=”none” row_border_radius_applies=”bg” overflow=”visible” overlay_strength=”0.3″ gradient_direction=”left_to_right” shape_divider_position=”bottom” bg_image_animation=”none”][vc_column column_padding=”no-extra-padding” column_padding_tablet=”inherit” column_padding_phone=”inherit” column_padding_position=”all” column_element_direction_desktop=”default” column_element_spacing=”default” desktop_text_alignment=”default” tablet_text_alignment=”default” phone_text_alignment=”default” background_color_opacity=”1″ background_hover_color_opacity=”1″ column_backdrop_filter=”none” column_shadow=”none” column_border_radius=”none” column_link_target=”_self” column_position=”default” gradient_direction=”left_to_right” overlay_strength=”0.3″ width=”1/1″ tablet_width_inherit=”default” animation_type=”default” bg_image_animation=”none” border_type=”simple” column_border_width=”none” column_border_style=”solid”][vc_column_text css=”” text_direction=”default”]The six-part series focuses on advancing the field of aging and preparing you to become a leader in improving the lives of older adults. Listen to an expert present groundbreaking research\, current students and alumni describe their experiences\, and our admission counselor discuss the wide range of degree programs and learning tracks to launch you toward your professional goals. \nAll sessions will be offered at two convenient times on Tuesdays at 3pm PST and 8:30pm PST. Join us with the following Zoom webinar information: \nJoin Via Zoom\nWebinar ID: 988 9806 4214\nWebinar Passcode: 138973[/vc_column_text][nectar_btn size=”large” button_style=”regular” button_color_2=”Accent-Color” solid_text_color_override=”#ffffff” icon_family=”none” text=”Register to join” url=”https://docs.google.com/forms/d/e/1FAIpQLSeMHxWqjaX2VeLzocwWvZFFrPn-b1pE7zGHZixfhtHuFX1g1g/viewform”][divider line_type=”Full Width Line” line_thickness=”1″ divider_color=”default” custom_height=”50″ custom_height_tablet=”50″ custom_height_phone=”50″][vc_column_text css=”” text_direction=”default”]\nWebinar Schedule\n3:00pm PST on June 24 – Journey to Gerontology at USC: The Flagship Degree\n8:30pm PST on June 24 – Journey to Gerontology at USC: The Flagship Degree\n3:00pm PST on July 1 – Path to Impact: Business and Care Leadership\n8:30pm PST on July 1 – Path to Impact: Business and Care Leadership\n3:00pm PST on July 15 – Aging in Action: Gerontology and Geroscience Research\n8:30pm PST on July 15 – Aging in Action: Gerontology and Geroscience Research\n3:00pm PST on July 22 – Future of AgeTech: Medicine and the Lifespan\n8:30pm PST on July 22 – Future of AgeTech: Medicine and the Lifespan\n3:00pm PST on July 29 – Global Longevity: Approaches to Nutrition and Dietetics\n8:30pm PST on July 29 – Global Longevity: Approaches to Nutrition and Dietetics\n3:00pm PST on August 5 – Glimpse of Grad School at Leonard Davis School of Gerontology\n8:30pm PST on August 5 – Glimpse of Grad School at Leonard Davis School of Gerontology[/vc_column_text][/vc_column][/vc_row]
URL:https://gero.usc.edu/event/geroconnect-webinar-series-2/2025-06-24/
LOCATION:Virtual event\, 3715 McClintock Avenue\, Los Angeles\, CA\, 90089\, United States
CATEGORIES:Admissions Events
ATTACH;FMTTYPE=image/png:https://gero.usc.edu/wp-content/uploads/2025/06/Screenshot-2025-06-23-at-11.14.52 PM-e1758834700329.png
GEO:34.0203027;-118.2907887
X-APPLE-STRUCTURED-LOCATION;VALUE=URI;X-ADDRESS=Virtual event 3715 McClintock Avenue Los Angeles CA 90089 United States;X-APPLE-RADIUS=500;X-TITLE=3715 McClintock Avenue:geo:-118.2907887,34.0203027
END:VEVENT
BEGIN:VEVENT
DTSTART;TZID=America/Los_Angeles:20250626T160000
DTEND;TZID=America/Los_Angeles:20250626T180000
DTSTAMP:20260423T042739
CREATED:20250620T214637Z
LAST-MODIFIED:20260109T005607Z
UID:10000453-1750953600-1750960800@gero.usc.edu
SUMMARY:ES23 Art Exhibit
DESCRIPTION:[vc_row type=”in_container” full_screen_row_position=”middle” column_margin=”default” column_direction=”default” column_direction_tablet=”default” column_direction_phone=”default” scene_position=”center” text_color=”dark” text_align=”left” row_border_radius=”none” row_border_radius_applies=”bg” overflow=”visible” overlay_strength=”0.3″ gradient_direction=”left_to_right” shape_divider_position=”bottom” bg_image_animation=”none”][vc_column column_padding=”no-extra-padding” column_padding_tablet=”inherit” column_padding_phone=”inherit” column_padding_position=”all” column_element_direction_desktop=”default” column_element_spacing=”default” centered_text=”true” desktop_text_alignment=”default” tablet_text_alignment=”default” phone_text_alignment=”default” background_color_opacity=”1″ background_hover_color_opacity=”1″ column_backdrop_filter=”none” column_shadow=”none” column_border_radius=”none” column_link_target=”_self” column_position=”default” gradient_direction=”left_to_right” overlay_strength=”0.3″ width=”1/1″ tablet_width_inherit=”default” animation_type=”default” bg_image_animation=”none” border_type=”simple” column_border_width=”none” column_border_style=”solid” column_padding_type=”default” gradient_type=”default”][vc_column_text css=”” text_direction=”default”]\nJoin Us for the ES23 Art Exhibit\n\nThursday\, June 26\, 2025 | 4:00 PM \nUSC Leonard Davis School Sophie Davis Art Gallery\n3715 McClintock Ave\, Los Angeles\, CA 90089 \nRegister to attend the exhibit presentation and viewing\, followed by a cocktail reception in the courtyard. \n\n[/vc_column_text][nectar_btn size=”large” button_style=”regular” button_color_2=”Accent-Color” solid_text_color_override=”#ffffff” icon_family=”none” url=”https://www.surveymonkey.com/r/B8Y6WF3″ text=”Register to attend”][/vc_column][/vc_row]
URL:https://gero.usc.edu/event/es23-art-exhibit/
LOCATION:USC Leonard Davis School Sophie Davis Art Gallery\, 3715 McClintock Ave\, Los Angeles\, CA\, 90089\, United States
CATEGORIES:Admissions Events,Alumni Events,Exhibit,Student Events
GEO:34.0203027;-118.2907887
X-APPLE-STRUCTURED-LOCATION;VALUE=URI;X-ADDRESS=USC Leonard Davis School Sophie Davis Art Gallery 3715 McClintock Ave Los Angeles CA 90089 United States;X-APPLE-RADIUS=500;X-TITLE=3715 McClintock Ave:geo:-118.2907887,34.0203027
END:VEVENT
BEGIN:VEVENT
DTSTART;TZID=America/Los_Angeles:20250627T160000
DTEND;TZID=America/Los_Angeles:20250627T170000
DTSTAMP:20260423T042739
CREATED:20250211T193901Z
LAST-MODIFIED:20250506T031721Z
UID:10000449-1751040000-1751043600@gero.usc.edu
SUMMARY:Admission Office Hours
DESCRIPTION:[vc_row type=”in_container” full_screen_row_position=”middle” column_margin=”default” column_direction=”default” column_direction_tablet=”default” column_direction_phone=”default” scene_position=”center” text_color=”dark” text_align=”left” row_border_radius=”none” row_border_radius_applies=”bg” overflow=”visible” overlay_strength=”0.3″ gradient_direction=”left_to_right” shape_divider_position=”bottom” bg_image_animation=”none”][vc_column column_padding=”no-extra-padding” column_padding_tablet=”inherit” column_padding_phone=”inherit” column_padding_position=”all” column_element_direction_desktop=”default” column_element_spacing=”default” desktop_text_alignment=”default” tablet_text_alignment=”default” phone_text_alignment=”default” background_color_opacity=”1″ background_hover_color_opacity=”1″ column_backdrop_filter=”none” column_shadow=”none” column_border_radius=”none” column_link_target=”_self” column_position=”default” gradient_direction=”left_to_right” overlay_strength=”0.3″ width=”1/1″ tablet_width_inherit=”default” animation_type=”default” bg_image_animation=”none” border_type=”simple” column_border_width=”none” column_border_style=”solid”][vc_column_text]\n\n\nLeonard Davis School admission counselors are hosting open office hours via Zoom. They will answer questions about our programs\, application process\, application deadlines and more. \n\n\n[/vc_column_text][nectar_btn size=”large” button_style=”regular” button_color_2=”Accent-Color” icon_family=”none” text=”Join the Meeting” url=”https://bit.ly/gero-office-hrs”][/vc_column][/vc_row]
URL:https://gero.usc.edu/event/2025-admission-office-hours/2025-06-27/
LOCATION:USC Leonard Davis School of Gerontology\, 3715 McClintock Avenue\, Los Angeles\, CA\, 90089\, United States
CATEGORIES:Admissions Events
ATTACH;FMTTYPE=image/jpeg:https://gero.usc.edu/wp-content/uploads/2022/08/AdmissionOfficeHours-scaled.jpg
GEO:34.0201476;-118.2904998
X-APPLE-STRUCTURED-LOCATION;VALUE=URI;X-ADDRESS=USC Leonard Davis School of Gerontology 3715 McClintock Avenue Los Angeles CA 90089 United States;X-APPLE-RADIUS=500;X-TITLE=3715 McClintock Avenue:geo:-118.2904998,34.0201476
END:VEVENT
END:VCALENDAR