BEGIN:VCALENDAR
VERSION:2.0
PRODID:-//USC Leonard Davis School of Gerontology - ECPv6.15.20//NONSGML v1.0//EN
CALSCALE:GREGORIAN
METHOD:PUBLISH
X-WR-CALNAME:USC Leonard Davis School of Gerontology
X-ORIGINAL-URL:https://gero.usc.edu
X-WR-CALDESC:Events for USC Leonard Davis School of Gerontology
REFRESH-INTERVAL;VALUE=DURATION:PT1H
X-Robots-Tag:noindex
X-PUBLISHED-TTL:PT1H
BEGIN:VTIMEZONE
TZID:America/Los_Angeles
BEGIN:DAYLIGHT
TZOFFSETFROM:-0800
TZOFFSETTO:-0700
TZNAME:PDT
DTSTART:20250309T100000
END:DAYLIGHT
BEGIN:STANDARD
TZOFFSETFROM:-0700
TZOFFSETTO:-0800
TZNAME:PST
DTSTART:20251102T090000
END:STANDARD
BEGIN:DAYLIGHT
TZOFFSETFROM:-0800
TZOFFSETTO:-0700
TZNAME:PDT
DTSTART:20260308T100000
END:DAYLIGHT
BEGIN:STANDARD
TZOFFSETFROM:-0700
TZOFFSETTO:-0800
TZNAME:PST
DTSTART:20261101T090000
END:STANDARD
BEGIN:DAYLIGHT
TZOFFSETFROM:-0800
TZOFFSETTO:-0700
TZNAME:PDT
DTSTART:20270314T100000
END:DAYLIGHT
BEGIN:STANDARD
TZOFFSETFROM:-0700
TZOFFSETTO:-0800
TZNAME:PST
DTSTART:20271107T090000
END:STANDARD
END:VTIMEZONE
BEGIN:VEVENT
DTSTART;TZID=America/Los_Angeles:20260206T170000
DTEND;TZID=America/Los_Angeles:20260206T183000
DTSTAMP:20260425T073905
CREATED:20260121T025459Z
LAST-MODIFIED:20260121T025855Z
UID:10000544-1770397200-1770402600@gero.usc.edu
SUMMARY:Graduate Open House
DESCRIPTION:[vc_row type=”in_container” full_screen_row_position=”middle” column_margin=”default” column_direction=”default” column_direction_tablet=”default” column_direction_phone=”default” scene_position=”center” text_color=”dark” text_align=”left” row_border_radius=”none” row_border_radius_applies=”bg” row_position_desktop=”default” row_position_tablet=”inherit” row_position_phone=”inherit” overflow=”visible” overlay_strength=”0.3″ gradient_direction=”left_to_right” shape_divider_position=”bottom” bg_image_animation=”none”][vc_column column_padding=”no-extra-padding” column_padding_tablet=”inherit” column_padding_phone=”inherit” column_padding_position=”all” flex_gap_desktop=”10px” column_element_direction_desktop=”default” column_element_spacing=”default” desktop_text_alignment=”default” tablet_text_alignment=”default” phone_text_alignment=”default” background_color_opacity=”1″ background_hover_color_opacity=”1″ column_backdrop_filter=”none” column_shadow=”none” column_border_radius=”none” column_link_target=”_self” column_position=”default” gradient_direction=”left_to_right” overlay_strength=”0.3″ width=”2/3″ tablet_width_inherit=”default” animation_type=”default” bg_image_animation=”none” border_type=”simple” column_border_width=”none” column_border_style=”solid”][vc_column_text css=”” text_direction=”default”]Join us on USC’s campus in Los Angeles on Friday\, February 6\, 2026 at 5:00-6:30pm to meet faculty\, current students\, and alumni of the USC Leonard Davis School of Gerontology. \nThis is an excellent chance to connect with the Senior Associate Dean and gain insights into our graduate programs\, study abroad opportunities\, and student associations. \nAdditionally\, we’ll be hosting a reception\, offering you the opportunity to engage with our admission counselors and inquire about our school\, programs\, or admission procedures.[/vc_column_text][nectar_btn size=”large” button_style=”regular” button_color_2=”Accent-Color” icon_family=”none” text=”RSVP” url=”https://forms.office.com/pages/responsepage.aspx?id=oazanZ84sUyhEwgb5swl_MzRIGfbp8hElCNkgxdMIypUNEdESk83VkhQMFk3RTJIOUdMWUUzQTFENC4u&route=shorturl” aria_label_text=”Link to RSVP for open house”][/vc_column][vc_column column_padding=”no-extra-padding” column_padding_tablet=”inherit” column_padding_phone=”inherit” column_padding_position=”all” flex_gap_desktop=”10px” column_element_direction_desktop=”default” column_element_spacing=”default” desktop_text_alignment=”default” tablet_text_alignment=”default” phone_text_alignment=”default” background_color_opacity=”1″ background_hover_color_opacity=”1″ column_backdrop_filter=”none” column_shadow=”none” column_border_radius=”none” column_link_target=”_self” column_position=”default” gradient_direction=”left_to_right” overlay_strength=”0.3″ width=”1/3″ tablet_width_inherit=”default” animation_type=”default” bg_image_animation=”none” border_type=”simple” column_border_width=”none” column_border_style=”solid”][image_with_animation image_url=”9337674″ image_size=”full” max_width=”100%” max_width_mobile=”default” animation_type=”entrance” animation=”None” animation_movement_type=”transform_y” hover_animation=”none” alignment=”” img_link_large=”yes” border_radius=”none” box_shadow=”none” image_loading=”default” screen_reader_text=”Link to enlarge graduate open house flyer”][/vc_column][/vc_row]
URL:https://gero.usc.edu/event/graduate-open-house-2026/
LOCATION:USC Leonard Davis School of Gerontology\, 3715 McClintock Avenue\, Los Angeles\, CA\, 90089\, United States
CATEGORIES:Admissions Events
GEO:34.0201476;-118.2904998
X-APPLE-STRUCTURED-LOCATION;VALUE=URI;X-ADDRESS=USC Leonard Davis School of Gerontology 3715 McClintock Avenue Los Angeles CA 90089 United States;X-APPLE-RADIUS=500;X-TITLE=3715 McClintock Avenue:geo:-118.2904998,34.0201476
END:VEVENT
BEGIN:VEVENT
DTSTART;TZID=America/Los_Angeles:20260212T160000
DTEND;TZID=America/Los_Angeles:20260212T170000
DTSTAMP:20260425T073905
CREATED:20251209T004427Z
LAST-MODIFIED:20260108T015154Z
UID:10000513-1770912000-1770915600@gero.usc.edu
SUMMARY:2026 Admission Office Hours
DESCRIPTION:[vc_row type=”in_container” full_screen_row_position=”middle” column_margin=”default” column_direction=”default” column_direction_tablet=”default” column_direction_phone=”default” scene_position=”center” text_color=”dark” text_align=”left” row_border_radius=”none” row_border_radius_applies=”bg” overflow=”visible” overlay_strength=”0.3″ gradient_direction=”left_to_right” shape_divider_position=”bottom” bg_image_animation=”none”][vc_column column_padding=”no-extra-padding” column_padding_tablet=”inherit” column_padding_phone=”inherit” column_padding_position=”all” column_element_direction_desktop=”default” column_element_spacing=”default” desktop_text_alignment=”default” tablet_text_alignment=”default” phone_text_alignment=”default” background_color_opacity=”1″ background_hover_color_opacity=”1″ column_backdrop_filter=”none” column_shadow=”none” column_border_radius=”none” column_link_target=”_self” column_position=”default” gradient_direction=”left_to_right” overlay_strength=”0.3″ width=”1/1″ tablet_width_inherit=”default” animation_type=”default” bg_image_animation=”none” border_type=”simple” column_border_width=”none” column_border_style=”solid”][vc_column_text css=”” text_direction=”default”]Leonard Davis School admission counselors are hosting open office hours via Zoom. They will answer questions about our programs\, application process\, application deadlines and more.[/vc_column_text][nectar_btn size=”large” open_new_tab=”true” button_style=”regular” button_color_2=”Accent-Color” solid_text_color_override=”#ffffff” icon_family=”iconsmind” text=”Join the Meeting” url=”https://bit.ly/gero-office-hrs” icon_iconsmind=”iconsmind-Arrow-OutRight”][/vc_column][/vc_row]
URL:https://gero.usc.edu/event/2026-admission-office-hours/2026-02-12/
LOCATION:Virtual event\, 3715 McClintock Avenue\, Los Angeles\, CA\, 90089\, United States
CATEGORIES:Admissions Events,Office Hours
ATTACH;FMTTYPE=image/jpeg:https://gero.usc.edu/wp-content/uploads/2022/08/AdmissionOfficeHours-scaled.jpg
GEO:34.0203027;-118.2907887
X-APPLE-STRUCTURED-LOCATION;VALUE=URI;X-ADDRESS=Virtual event 3715 McClintock Avenue Los Angeles CA 90089 United States;X-APPLE-RADIUS=500;X-TITLE=3715 McClintock Avenue:geo:-118.2907887,34.0203027
END:VEVENT
BEGIN:VEVENT
DTSTART;TZID=America/Los_Angeles:20260213T160000
DTEND;TZID=America/Los_Angeles:20260213T180000
DTSTAMP:20260425T073905
CREATED:20260206T232326Z
LAST-MODIFIED:20260211T222022Z
UID:10000552-1770998400-1771005600@gero.usc.edu
SUMMARY:Black History Month: "Holding the Pieces" Film Screening
DESCRIPTION:[vc_row type=”in_container” full_screen_row_position=”middle” column_margin=”default” column_direction=”default” column_direction_tablet=”default” column_direction_phone=”default” scene_position=”center” text_color=”dark” text_align=”left” row_border_radius=”none” row_border_radius_applies=”bg” row_position_desktop=”default” row_position_tablet=”inherit” row_position_phone=”inherit” overflow=”visible” overlay_strength=”0.3″ gradient_direction=”left_to_right” shape_divider_position=”bottom” bg_image_animation=”none”][vc_column column_padding=”no-extra-padding” column_padding_tablet=”inherit” column_padding_phone=”inherit” column_padding_position=”all” flex_gap_desktop=”10px” column_element_direction_desktop=”default” column_element_spacing=”default” desktop_text_alignment=”default” tablet_text_alignment=”default” phone_text_alignment=”default” background_color_opacity=”1″ background_hover_color_opacity=”1″ column_backdrop_filter=”none” column_shadow=”none” column_border_radius=”none” column_link_target=”_self” column_position=”default” gradient_direction=”left_to_right” overlay_strength=”0.3″ width=”1/1″ tablet_width_inherit=”default” animation_type=”default” bg_image_animation=”none” border_type=”simple” column_border_width=”none” column_border_style=”solid”][vc_column_text css=”” text_direction=”default”]In honor of Black History Month\, the USC Leonard Davis School of Gerontology will host a free screening of the film Holding the Pieces. The USC Leonard Davis School Cultural Committee and Alzheimer’s Los Angeles will facilitate a panel discussion immediately following the screening. \nDate: Friday\, February 13\, 2026\n4:00 PM – 6:00 PM \nLocation: USC Leonard Davis School Auditorium\n3715 McClintock Avenue\nLos Angeles\, CA 90089 \nAbout the Film\nHolding the Pieces follows one family’s journey with Alzheimer’s disease and shows how\, even in the hardest moments\, love and connection endure. When Rose Yelder—a beloved mother and grandmother—begins showing signs of memory loss\, her family is faced with difficult questions and emotional challenges as they navigate the healthcare system searching for answers. \nStarring Juanita Jennings\, Monnae Michaell\, Aaron Jennings\, & Jayani Jalese\nWritten by Courtney Stewart\nDirected by Kimleigh Smith\nProduced by Embrace Your Cape[/vc_column_text][nectar_btn size=”small” open_new_tab=”true” button_style=”regular” button_color_2=”Accent-Color” icon_family=”none” text=”RSVP Here” url=”https://www.surveymonkey.com/r/BJCQ9HC” aria_label_text=”Link to RSVP”][/vc_column][/vc_row]
URL:https://gero.usc.edu/event/black-history-month-holding-the-pieces-film-screening/
LOCATION:USC Leonard Davis School of Gerontology\, 3715 McClintock Avenue\, Los Angeles\, CA\, 90089\, United States
CATEGORIES:Film Screening
ATTACH;FMTTYPE=image/jpeg:https://gero.usc.edu/wp-content/uploads/2026/02/Holding-The-Pieces-banner.jpg
GEO:34.0201476;-118.2904998
X-APPLE-STRUCTURED-LOCATION;VALUE=URI;X-ADDRESS=USC Leonard Davis School of Gerontology 3715 McClintock Avenue Los Angeles CA 90089 United States;X-APPLE-RADIUS=500;X-TITLE=3715 McClintock Avenue:geo:-118.2904998,34.0201476
END:VEVENT
BEGIN:VEVENT
DTSTART;TZID=America/Los_Angeles:20260219T120000
DTEND;TZID=America/Los_Angeles:20260219T130000
DTSTAMP:20260425T073905
CREATED:20250918T000532Z
LAST-MODIFIED:20260206T213732Z
UID:10000492-1771502400-1771506000@gero.usc.edu
SUMMARY:Colloquium Speaker: Robert Musci\, PhD
DESCRIPTION:[vc_row type=”in_container” full_screen_row_position=”middle” column_margin=”default” column_direction=”default” column_direction_tablet=”default” column_direction_phone=”default” scene_position=”center” text_color=”dark” text_align=”left” row_border_radius=”none” row_border_radius_applies=”bg” row_position_desktop=”default” row_position_tablet=”inherit” row_position_phone=”inherit” overflow=”visible” overlay_strength=”0.3″ gradient_direction=”left_to_right” shape_divider_position=”bottom” bg_image_animation=”none”][vc_column column_padding=”no-extra-padding” column_padding_tablet=”inherit” column_padding_phone=”inherit” column_padding_position=”all” flex_gap_desktop=”10px” column_element_direction_desktop=”default” column_element_spacing=”default” desktop_text_alignment=”default” tablet_text_alignment=”default” phone_text_alignment=”default” background_color_opacity=”1″ background_hover_color_opacity=”1″ column_backdrop_filter=”none” column_shadow=”none” column_border_radius=”none” column_link_target=”_self” column_position=”default” gradient_direction=”left_to_right” overlay_strength=”0.3″ width=”1/1″ tablet_width_inherit=”default” animation_type=”default” bg_image_animation=”none” border_type=”simple” column_border_width=”none” column_border_style=”solid”][vc_column_text css=”” text_direction=”default”]Please join us for a Colloquium Series lecture featuring Robert Musci\, Assistant Professor of Health and Human Sciences\, Loyola Marymount University \nLecture Information\nDate & Time: February 19\, 2025 at 12-1 PM Pacific Time (US and Canada)\nLocation: GER 224 and via Zoom[/vc_column_text][/vc_column][/vc_row]
URL:https://gero.usc.edu/event/colloquium-speaker-robert-musci-phd/
LOCATION:USC Leonard Davis School of Gerontology\, 3715 McClintock Avenue\, Los Angeles\, CA\, 90089\, United States
CATEGORIES:Colloquium Spring 2026,Multidisciplinary Research Colloquium Series,Research Events
ATTACH;FMTTYPE=image/jpeg:https://gero.usc.edu/wp-content/uploads/2025/09/Robert-Musci.jpg
GEO:34.0201476;-118.2904998
X-APPLE-STRUCTURED-LOCATION;VALUE=URI;X-ADDRESS=USC Leonard Davis School of Gerontology 3715 McClintock Avenue Los Angeles CA 90089 United States;X-APPLE-RADIUS=500;X-TITLE=3715 McClintock Avenue:geo:-118.2904998,34.0201476
END:VEVENT
BEGIN:VEVENT
DTSTART;TZID=America/Los_Angeles:20260226T120000
DTEND;TZID=America/Los_Angeles:20260226T130000
DTSTAMP:20260425T073905
CREATED:20250919T211259Z
LAST-MODIFIED:20260127T231723Z
UID:10000494-1772107200-1772110800@gero.usc.edu
SUMMARY:Colloquium Speaker: Becca Levy\, PhD
DESCRIPTION:[vc_row type=”in_container” full_screen_row_position=”middle” column_margin=”default” column_direction=”default” column_direction_tablet=”default” column_direction_phone=”default” scene_position=”center” text_color=”dark” text_align=”left” row_border_radius=”none” row_border_radius_applies=”bg” row_position_desktop=”default” row_position_tablet=”inherit” row_position_phone=”inherit” overflow=”visible” overlay_strength=”0.3″ gradient_direction=”left_to_right” shape_divider_position=”bottom” bg_image_animation=”none”][vc_column column_padding=”no-extra-padding” column_padding_tablet=”inherit” column_padding_phone=”inherit” column_padding_position=”all” flex_gap_desktop=”10px” column_element_direction_desktop=”default” column_element_spacing=”default” desktop_text_alignment=”default” tablet_text_alignment=”default” phone_text_alignment=”default” background_color_opacity=”1″ background_hover_color_opacity=”1″ column_backdrop_filter=”none” column_shadow=”none” column_border_radius=”none” column_link_target=”_self” column_position=”default” gradient_direction=”left_to_right” overlay_strength=”0.3″ width=”1/1″ tablet_width_inherit=”default” animation_type=”default” bg_image_animation=”none” border_type=”simple” column_border_width=”none” column_border_style=”solid”][vc_column_text css=”” text_direction=”default”]Please join us for a Colloquium Series lecture featuring Becca Levy\, PhD\, Professor of Public Health (Social and Behavioral Sciences) and Psychology\, Yale School of Public Health \nLecture Information\nDate & Time: February 26\, 2026 at 12-1 PM Pacific Time (US and Canada)\nLocation: GER 224 and via Zoom[/vc_column_text][/vc_column][/vc_row]
URL:https://gero.usc.edu/event/colloquium-speaker-becca-levy-phd/
LOCATION:USC Leonard Davis School of Gerontology\, 3715 McClintock Avenue\, Los Angeles\, CA\, 90089\, United States
CATEGORIES:Colloquium Spring 2026,Multidisciplinary Research Colloquium Series
ATTACH;FMTTYPE=image/jpeg:https://gero.usc.edu/wp-content/uploads/2025/09/67fb9bfb-9d89-4a97-bcd4-195881e328aa.jpeg
GEO:34.0201476;-118.2904998
X-APPLE-STRUCTURED-LOCATION;VALUE=URI;X-ADDRESS=USC Leonard Davis School of Gerontology 3715 McClintock Avenue Los Angeles CA 90089 United States;X-APPLE-RADIUS=500;X-TITLE=3715 McClintock Avenue:geo:-118.2904998,34.0201476
END:VEVENT
BEGIN:VEVENT
DTSTART;TZID=America/Los_Angeles:20260226T170000
DTEND;TZID=America/Los_Angeles:20260226T180000
DTSTAMP:20260425T073905
CREATED:20251209T004427Z
LAST-MODIFIED:20260108T015154Z
UID:10000514-1772125200-1772128800@gero.usc.edu
SUMMARY:2026 Admission Office Hours
DESCRIPTION:[vc_row type=”in_container” full_screen_row_position=”middle” column_margin=”default” column_direction=”default” column_direction_tablet=”default” column_direction_phone=”default” scene_position=”center” text_color=”dark” text_align=”left” row_border_radius=”none” row_border_radius_applies=”bg” overflow=”visible” overlay_strength=”0.3″ gradient_direction=”left_to_right” shape_divider_position=”bottom” bg_image_animation=”none”][vc_column column_padding=”no-extra-padding” column_padding_tablet=”inherit” column_padding_phone=”inherit” column_padding_position=”all” column_element_direction_desktop=”default” column_element_spacing=”default” desktop_text_alignment=”default” tablet_text_alignment=”default” phone_text_alignment=”default” background_color_opacity=”1″ background_hover_color_opacity=”1″ column_backdrop_filter=”none” column_shadow=”none” column_border_radius=”none” column_link_target=”_self” column_position=”default” gradient_direction=”left_to_right” overlay_strength=”0.3″ width=”1/1″ tablet_width_inherit=”default” animation_type=”default” bg_image_animation=”none” border_type=”simple” column_border_width=”none” column_border_style=”solid”][vc_column_text css=”” text_direction=”default”]Leonard Davis School admission counselors are hosting open office hours via Zoom. They will answer questions about our programs\, application process\, application deadlines and more.[/vc_column_text][nectar_btn size=”large” open_new_tab=”true” button_style=”regular” button_color_2=”Accent-Color” solid_text_color_override=”#ffffff” icon_family=”iconsmind” text=”Join the Meeting” url=”https://bit.ly/gero-office-hrs” icon_iconsmind=”iconsmind-Arrow-OutRight”][/vc_column][/vc_row]
URL:https://gero.usc.edu/event/2026-admission-office-hours/2026-02-26/
LOCATION:Virtual event\, 3715 McClintock Avenue\, Los Angeles\, CA\, 90089\, United States
CATEGORIES:Admissions Events,Office Hours
ATTACH;FMTTYPE=image/jpeg:https://gero.usc.edu/wp-content/uploads/2022/08/AdmissionOfficeHours-scaled.jpg
GEO:34.0203027;-118.2907887
X-APPLE-STRUCTURED-LOCATION;VALUE=URI;X-ADDRESS=Virtual event 3715 McClintock Avenue Los Angeles CA 90089 United States;X-APPLE-RADIUS=500;X-TITLE=3715 McClintock Avenue:geo:-118.2907887,34.0203027
END:VEVENT
BEGIN:VEVENT
DTSTART;VALUE=DATE:20260227
DTEND;VALUE=DATE:20260228
DTSTAMP:20260425T073905
CREATED:20250919T014741Z
LAST-MODIFIED:20260304T194402Z
UID:10000493-1772150400-1772236799@gero.usc.edu
SUMMARY:USC Asian Health and Longevity Symposium
DESCRIPTION:[vc_row type=”in_container” full_screen_row_position=”middle” column_margin=”default” column_direction=”default” column_direction_tablet=”default” column_direction_phone=”default” scene_position=”center” text_color=”dark” text_align=”left” row_border_radius=”none” row_border_radius_applies=”bg” row_position_desktop=”default” row_position_tablet=”inherit” row_position_phone=”inherit” overflow=”visible” overlay_strength=”0.3″ gradient_direction=”left_to_right” shape_divider_position=”bottom” bg_image_animation=”none”][vc_column column_padding=”no-extra-padding” column_padding_tablet=”inherit” column_padding_phone=”inherit” column_padding_position=”all” flex_gap_desktop=”10px” column_element_direction_desktop=”default” column_element_spacing=”default” desktop_text_alignment=”default” tablet_text_alignment=”default” phone_text_alignment=”default” background_color_opacity=”1″ background_hover_color_opacity=”1″ column_backdrop_filter=”none” column_shadow=”none” column_border_radius=”none” column_link_target=”_self” column_position=”default” gradient_direction=”left_to_right” overlay_strength=”0.3″ width=”1/1″ tablet_width_inherit=”default” animation_type=”default” bg_image_animation=”none” border_type=”simple” column_border_width=”none” column_border_style=”solid”][image_with_animation image_url=”https://gero.usc.edu/wp-content/uploads/2025/09/USC-Asian-Health-and-Longevity-Symposium-flyer-2026-b.jpg” image_size=”large” max_width=”100%” max_width_mobile=”default” animation_type=”entrance” animation=”None” animation_movement_type=”transform_y” hover_animation=”none” alignment=”” border_radius=”none” box_shadow=”none” image_loading=”default” img_link=”https://gero.usc.edu/event/ahlsymposium-2026/#:~:text=below%20to%20RSVP.-\,RSVP%20Here\,-Add%20to%20calendar” screen_reader_text=”RSVP to the 2026 USC Asian Health and Longevity Symposium. The event will take place on Friday\, February 27\, 2026 from 9:00 AM to 6:00 PM at the USC Leonard Davis School of Gerontology.”][vc_column_text css=”.vc_custom_1772653435401{margin-top: 0px !important;margin-right: 0px !important;margin-bottom: 0px !important;margin-left: 0px !important;border-top-width: 0px !important;border-right-width: 0px !important;border-bottom-width: 0px !important;border-left-width: 0px !important;padding-top: 0px !important;padding-right: 0px !important;padding-bottom: 0px !important;padding-left: 0px !important;}” text_direction=”default”]Date: Friday\, February 27\, 2026\nTime: 9:00 AM – 6:00 PM\nLocation: USC Andrus Gerontology Center\, 3715 McClintock Avenue\, Los Angeles\, California 90089\nOrganizing Committee: Yang Chai\, Hassy Cohen\, Susan Gurley\, David Peng \nProgram\n\n\n\n\nTime\n\n\nSession\n\n\nSpeakers\n\n\n\n9:00 AM – 9:15 AM\nIntroduction and Opening Remarks\nBeong-Soo Kim\nPinchas Cohen\, MD\nSteven D. Shapiro\, MD\n\n\n9:15 AM – 9:35 AM\nKeynote: Using Large Population Cohorts to Understand Asian Health and Longevity\nEileen Crimmins\, PhD\n\n\n9:35 AM – 10:40 AM\nAlzheimer’s and Stroke Among Asians\nModerator: Julie Zissimopoulos\, PhD\nArthur W. Toga\, PhD\, Imaging and Informatics for Different Populations\nHelena C. Chui\, MD\, A Personalized Approach to Healthier Memory and Aging\nMay Kim-Tenser\, MD Beyond FAST: Stroke Risks and Prevention in the Asian Community\nSook-Lei Liew\, PhD\, OTR/L\, FAOTA\, International Collaborations to Understand Stroke Recovery and Rehabilitation\n\n\n10:40 AM – 10:50 AM\nBreak\n\n\n\n10:50 AM – 11:55 PM\nAdvancing Oral and Systemic Health Through a Precision Medicine Approach\nModerator: Yang Chai\, DDS\, PhD\nParish P. Sedghizadeh\, DDS\, MS\, The Connection Between Osteoporosis and Oral Health in Asian Populations: The Need for Precision Medicine and Lessons Learned from Osteonecrosis of the Jaw\nKian Kar\, DDS\, MS\, Precision Periodontology: Targeted Management of Drug-Induced Gingival Overgrowth\nDechen Lin\, PhD. Oral Cancer Evolution and Precision Medicine: Insights from Advanced Human Organoid Models\nUttam Sinha\, MD\, Advancing Oral and Systemic Health Through a Precision Medicine Approach\n\n\n11:55 PM- 1:15 PM\nLunch in Courtyard\n\n\n\n1:15 PM -2:20 PM\nDiabetes and Obesity in Asians\nModerator: Anne L. Peters\, MD\nKurt Hong\, MD\, PhD\, Beyond BMI: Ethnicity\, Body Composition\, and Diabetes Risk — Asian vss Non-Asian Perspectives\nPinchas Cohen\, MD\, Leveraging Mitochondrial Genetics in Large Cohorts to Discover Asian-Specific Diabetes Syndromes\nHiroshi Kumagai\, PhD\, Asian Multi-Omics Unravel Novel Factors Involved in the Regulation of Muscle Biology\nParveen K. Garg\, MD\, Metabolic Dysfunction in Asians: Unique Cardiovascular Risk Profiles and Implications for Personalized Care\n\n\n2:20 PM- 2:45 PM\nFireside Chat\nDominic Ng\, USC Trustee\nBeong-Soo Kim\, President\nVivian Y. Mo\, MD\, USC’s Role in Advancing Asian Health and Longevity in our Communities\n\n\n2:45 PM – 2:55 PM\nBreak\n\n\n\n2:55 PM – 3:20 PM\nOpportunities for Traditional Chinese Medicine in Los Angeles\nModerator: Sean P. Curran\, PhD\nHua-Bing Wen\, L.Ac. B. Med.\, MS\n\n\n3:20 PM – 4:25 PM\nCancer Among Asians\nModerator: Lihua Liu\, PhD\nGino In\, MD\, MPH\, Why Cancer is Different in Asian Populations — and Why Precision Medicine Matters\nVeronica Setiawan\, PhD\, Cancers Among Asians in Los Angeles County: What the Surveillance Data Tell Us\nKimberly Miller\, PhD\, MPH\, Mapping Survivorship Journeys: Investigating Care Engagement Among Asian American Childhood Cancer Survivors\nJennifer Tsui\, PhD\, Building Effective Community-Academic Partnerships to Address Cancer Prevention and Control in Asian American Communities\n\n\n4:25 PM – 4:45 PM\nClosing Remarks\nPinchas Cohen\, MD\n\n\n4:45 PM – 6:00 PM\nReception in Courtyard\n\n\n\n\nSorry\, the registration is closed. Please email ldsgero@usc.edu for questions.[/vc_column_text][/vc_column][/vc_row]
URL:https://gero.usc.edu/event/ahlsymposium-2026/
LOCATION:USC Leonard Davis School of Gerontology\, 3715 McClintock Avenue\, Los Angeles\, CA\, 90089\, United States
CATEGORIES:Alumni Events,Seminars and Lectures,Student Events
GEO:34.0201476;-118.2904998
X-APPLE-STRUCTURED-LOCATION;VALUE=URI;X-ADDRESS=USC Leonard Davis School of Gerontology 3715 McClintock Avenue Los Angeles CA 90089 United States;X-APPLE-RADIUS=500;X-TITLE=3715 McClintock Avenue:geo:-118.2904998,34.0201476
END:VEVENT
END:VCALENDAR